BEGIN:VCALENDAR
PRODID:NingEventWidget-v1
VERSION:2.0
METHOD:PUBLISH
BEGIN:VTIMEZONE
TZID:Europe/Athens
X-LIC-LOCATION:Europe/Athens
BEGIN:DAYLIGHT
TZOFFSETFROM:+0200
TZOFFSETTO:+0300
TZNAME:EEST
DTSTART:19700329T030000
RRULE:FREQ=YEARLY;BYMONTH=3;BYDAY=-1SU
END:DAYLIGHT
BEGIN:STANDARD
TZOFFSETFROM:+0300
TZOFFSETTO:+0200
TZNAME:EET
DTSTART:19701025T040000
RRULE:FREQ=YEARLY;BYMONTH=10;BYDAY=-1SU
END:STANDARD
END:VTIMEZONE
BEGIN:VEVENT
UID:1982923:Event:50750
DTSTAMP:20260422T123645Z
SUMMARY:Louisiana Red & Electric Blues Band LIVE @ MAO - Kavala
DESCRIPTION:Την Τετάρτη, 14.04.2010, ο Louisiana Red θα 
 μφανιστεί στην Καβάλα, στο Cafe-Bar ΜΑΟ. Ε
 ναι η πρώτη φορά που ο μεγάλος αυτός Α
 ερικανός καλλιτέχνης θα εμφανιστεί σ
 ην Καβάλα με μια ηλεκτρική μπάντα, μια
  που όλες τις φορές που μας έχει επισκε
 φθεί στο παρελθόν, εμφανιζόταν είτε μό
 νος του, είτε με τη σύμπραξη του κιθαρί
 στα και ηγέτη των Blues Wire, Ηλία Ζάϊκου.\nΕ
 τσι, το κοινό της Καβάλας (και όσοι από 
 τις γύρω περιοχές ταξιδέψουν μέχρι εκ
 ί) θα έχει την ευκαιρία να απολαύσει έ
 αν από τους σημαντικότερους εν ζωή κα
 λιτέχνες του blues με τη σύμπραξη μιας κ
 θαρόαιμης ηλεκτρικής μπάντας. Επί σκη
 νής θα βρίσκεται η \"ψυχή\" των Blues Wire, Ηλ
 ίας Ζάικος (κιθάρα, τραγούδι) και Σωτήρ
 ης Ζήσης και οι Λάζαρος Σιμιτσής (τύμπ
 να) και Γιάννης Τσίγκας (κιθάρα) από το
 υς MOJO Electric Blues Band. Ο Louisiana Red θα παρουσιά
 ει δείγματα από τις πρόσφατες δισκογρ
 αφικές του δουλειές αλλά και αρκετές δ
 ιασκευές από κλασικά blues standards.\n\nFor more in
 formation visit https://blues.gr/events/louisiana-red-electric-blues
DTSTART;TZID=Europe/Athens:20100414T220000
DTEND;TZID=Europe/Athens:20100415T010000
CATEGORIES:concert
LOCATION:Cafe-Bar MAO
WEBSITE:http://info@cafemao.gr
URL:http://info@cafemao.gr
CONTACT:2510831300
ORGANIZER:Cafe-Bar MAO
ATTACH;FMTTYPE="image/jpeg":http://storage.ning.com/topology/rest/1.0/
 file/get/2252941245?profile=original
ATTENDEE;ROLE=REQ-PARTICIPANT;PARTSTAT=ACCEPTED;RSVP=TRUE;CN=Larry:htt
 ps://blues.gr/profile/Larry
ATTENDEE;ROLE=REQ-PARTICIPANT;PARTSTAT=ACCEPTED;RSVP=TRUE;CN="Ioannis 
 Tsigkas":https://blues.gr/profile/IoannisTsigkas
END:VEVENT
END:VCALENDAR
