BEGIN:VCALENDAR
PRODID:NingEventWidget-v1
VERSION:2.0
METHOD:PUBLISH
BEGIN:VTIMEZONE
TZID:Europe/Athens
X-LIC-LOCATION:Europe/Athens
BEGIN:DAYLIGHT
TZOFFSETFROM:+0200
TZOFFSETTO:+0300
TZNAME:EEST
DTSTART:19700329T030000
RRULE:FREQ=YEARLY;BYMONTH=3;BYDAY=-1SU
END:DAYLIGHT
BEGIN:STANDARD
TZOFFSETFROM:+0300
TZOFFSETTO:+0200
TZNAME:EET
DTSTART:19701025T040000
RRULE:FREQ=YEARLY;BYMONTH=10;BYDAY=-1SU
END:STANDARD
END:VTIMEZONE
BEGIN:VEVENT
UID:1982923:Event:490695
DTSTAMP:20260419T194935Z
SUMMARY:«LUMINESSENCE - ΦΩΤΕΙΝΟΤΗΤΑ» | ECM
DESCRIPTION:Την Παρασκευή 3 με Σάββατο 11 Νοε
 βρίου,  η Αλυσίδα Πολιτισμού IANOS διοργ
 ανώνει παρουσίαση σειράς βινυλίων, με 
 τίτλο «LUMINESSENCE - ΦΩΤΕΙΝΟΤΗΤΑ».\r\nΣτο διά
 στημα αυτό, θα μπορείτε να ακούσετε κα
  να αγοράσετε σε ειδικές τιμές όλους τ
 ους δίσκους της σειράς LUMINESSENCE. Τα βινύ
 ια θα παίζουν σε μηχανήματα υψηλής ακ
 υστικής καθ’ όλη την διάρκεια των ημε
 ρών.\r\nΤο Σάββατο 11 Νοεμβρίου, την τελε
 ταία μέρα της παρουσίασης, από τις 12:00 
 έως τις 14:00, θα μιλήσει, θα κουβεντιάσε
  και θα ακούσει την μουσική μαζί με εσ
 ς ο εκπρόσωπος της ECM στην Ελλάδα Νίκο
  Βοζίκης ANMUSIC. Τον εξοπλισμό προσφέρει
  ο Βασίλης Χουρμουζιάδης της εταιρεία
  Thessaloniki Audio Society.\r\nΗ νέα audiophile σειρά επ
 νέκδοσης βινυλίων της ECM!\r\n \r\nGARY BURTON 
 THE NEW QUARTET\r\nKEITH JARRETT(3LP) - SOLO CONCERTS BREMEN/LAUSANNE
 \r\nKENNY WHEELER - GNU HIGH\r\nNANA VASCONCELOS - SAUDADES\r\nDON CHE
 RRY, DEWEY REDMAN, CHARLIE HADEN, ED BLACKWELL - OLD AND NEW\r\nΗ ε
 δήλωση θα πραγματοποιηθεί στον Ιανό τ
 ης Θεσσαλονίκης, Αριστοτέλους 7.\r\n\n\nFor 
 more information visit https://blues.gr/events/luminessence-ecm
DTSTART;TZID=Europe/Athens:20231111T000000
DTEND;TZID=Europe/Athens:20231111T235900
CATEGORIES:jazz
LOCATION:IANOS
WEBSITE:https://www.ianos.gr/events/luminessence-fotinotita-ecm-ianos-
 03-11/
URL:https://www.ianos.gr/events/luminessence-fotinotita-ecm-ianos-03-1
 1/
CONTACT:
ORGANIZER:IANOS / ECM / AN MUSIC.
ATTACH;FMTTYPE="image/jpeg":https://storage.ning.com/topology/rest/1.0
 /file/get/12287277270?profile=original
ATTENDEE;ROLE=REQ-PARTICIPANT;PARTSTAT=ACCEPTED;RSVP=TRUE;CN="Music Ne
 twork by Michael Limnios":https://blues.gr/profile/MichalisLimnios
END:VEVENT
END:VCALENDAR
