BEGIN:VCALENDAR
PRODID:NingEventWidget-v1
VERSION:2.0
METHOD:PUBLISH
BEGIN:VTIMEZONE
TZID:Europe/Athens
X-LIC-LOCATION:Europe/Athens
BEGIN:DAYLIGHT
TZOFFSETFROM:+0200
TZOFFSETTO:+0300
TZNAME:EEST
DTSTART:19700329T030000
RRULE:FREQ=YEARLY;BYMONTH=3;BYDAY=-1SU
END:DAYLIGHT
BEGIN:STANDARD
TZOFFSETFROM:+0300
TZOFFSETTO:+0200
TZNAME:EET
DTSTART:19701025T040000
RRULE:FREQ=YEARLY;BYMONTH=10;BYDAY=-1SU
END:STANDARD
END:VTIMEZONE
BEGIN:VEVENT
UID:1982923:Event:130073
DTSTAMP:20260424T115721Z
SUMMARY:LURRIE BELL & MATTHEW SKOLLER feat. BLUES CARGO
DESCRIPTION:Lurrie Bell was born on December 13, 1958, in Chicago. His
  famous father, harpist Carey Bell, had him working out on guitar as 
 a wee lad. By 1977, he was recording with his dad and playing behind a
  variety of established stars, tabbed by many observers at the time as
  a sure star on the rise. But personal problems took their toll on his
  great potential; Bell's recorded output and live performances were i
 nconsistent in the '80s and early '90s. Among the highlights of Bell's
  discography are three tracks in tandem with harpist Billy Branch un
 der the Sons of Blues banner (Lurrie Bell was a founding member of t
 he band) from Alligator's first batch of 1978 Living Chicago Blues an
 thologies and a 1984 collaboration, Son of a Gun, with his old man fo
 r Rooster Blues. Then there's his set for Delmark, Mercurial Son, as 
 bizarre a contemporary blues album as you're likely to encounter.Bell 
 followed Mercurial Son with the more straightforward 700 Blues in s
 pring 1997; The Blues Had a Baby appeared two years later.\n\n\nBLUE
 S CARGO is an electric Blues Band that was formed back in 1987 in Ath
 ens by DIMITRIS IOANNOU (bass guitar, vocals), STELIOS ZAFIRIOU (Guita
 r), STELIOS GAVRILIDES (Drums) and STELIOS ZOUZOULAS (Guitar).\nThe Ba
 nd has been playing regularly for more than 24 consecutive years all o
 ver Greece and has gained the respect and the admiration of all the Gr
 eek and European blues fans. Their shows continue to massively attract
  blues audiences regardless of age and gender who consider them as one
  of the best Blues Bands in Europe. Besides being an extremely tight b
 and that delivers scorching blues guitar solos and a very wide spectru
 m of blues arrangements, the trade mark of the band is the unprecedent
 ed voice of the singer and bass player of Blues Cargo, Mr. Dimitris Io
 annou and the fine and emotional guitar paying of Stelios Zafeiriou.\n
 Many famous American artists have been backed up by the Blues Cargo du
 ring their appearances in Greece. Some of them are: LOUISIANA RED, LUR
 RIE BELL, BIG TIME SARAH, EDDIE C. CAMPBELL, GUITAR SHORTY, LEFTY DIZZ
 , BYTHER SMITH, ANGELA BROWN, LOVIE LEE, JEAN CAROLL, MAXINΕ HOWARD, 
 UP-WILSON, SWEET BETTY, JAN HARRINGTON, BLIND MISSISIPI MORRIS,MICHAEL
  DOTSON,JOLLY JUMPER & BIG MOE, and NELLIE TIGER TRAVIS.\nThe band has
  also opened the shows of JOHN MAYAL, JOHN HAΜMOND, NICK GRAVENITES, 
 BIG TOWN PLAYBOYS, and FERNEST ARCENAUX in Greece.\nBy the end of 1992
 , they had recorded a number of original tunes which were finally issu
 ed on a vinyl LP in 1993, by Pegasus Records. The album was titled “
 FIRST DELIVERY” and received very good reviews. On March, 2009, the 
 band released their second album after 15 years. That is the reason wh
 y this album is called “DELAYED DELIVERY”.\nThe recent BLUES CARGO
  line up is :\nSTELIOS ZAFEIRIOU (guitar), DIMITRIS IOANNOU (bass, lea
 d vocals), PETROS DACTILIDES (drums), GIORGOS LAGOGIANNIS (keyboards),
  BABIS (Saxy B) TSILIVIGOS (saxophone)\n\n\n\nFor more information vis
 it https://blues.gr/events/lurrie-bell-matthew-skoller-feat-blues-carg
 o
DTSTART;TZID=Europe/Athens:20120201T000000
DTEND;TZID=Europe/Athens:20120205T235900
CATEGORIES:blues
LOCATION:Half Note
WEBSITE:http://www.halfnote.gr/index.php
URL:http://www.halfnote.gr/index.php
CONTACT:+30 210 9213310
ORGANIZER:Half Note Jazz Club
ATTACH;FMTTYPE="image/jpeg":http://storage.ning.com/topology/rest/1.0/
 file/get/2252963831?profile=original
ATTENDEE;ROLE=REQ-PARTICIPANT;PARTSTAT=ACCEPTED;RSVP=TRUE;CN="George \
 "Whiskey\" Stefanakis":https://blues.gr/profile/GeorgeStefanakis
ATTENDEE;ROLE=REQ-PARTICIPANT;PARTSTAT=ACCEPTED;RSVP=TRUE;CN="Music Ne
 twork by Michael Limnios":https://blues.gr/profile/MichalisLimnios
ATTENDEE;ROLE=REQ-PARTICIPANT;PARTSTAT=ACCEPTED;RSVP=TRUE;CN="Giannis 
 Pachidis":https://blues.gr/profile/ioannis
ATTENDEE;ROLE=REQ-PARTICIPANT;PARTSTAT=ACCEPTED;RSVP=TRUE;CN="Dimitris
  Ioannou":https://blues.gr/profile/DimitrisIoannou
ATTENDEE;ROLE=REQ-PARTICIPANT;PARTSTAT=ACCEPTED;RSVP=TRUE;CN="tony dol
 laro":https://blues.gr/profile/tonydollaro
END:VEVENT
END:VCALENDAR
