BEGIN:VCALENDAR
PRODID:NingEventWidget-v1
VERSION:2.0
METHOD:PUBLISH
BEGIN:VTIMEZONE
TZID:Europe/Athens
X-LIC-LOCATION:Europe/Athens
BEGIN:DAYLIGHT
TZOFFSETFROM:+0200
TZOFFSETTO:+0300
TZNAME:EEST
DTSTART:19700329T030000
RRULE:FREQ=YEARLY;BYMONTH=3;BYDAY=-1SU
END:DAYLIGHT
BEGIN:STANDARD
TZOFFSETFROM:+0300
TZOFFSETTO:+0200
TZNAME:EET
DTSTART:19701025T040000
RRULE:FREQ=YEARLY;BYMONTH=10;BYDAY=-1SU
END:STANDARD
END:VTIMEZONE
BEGIN:VEVENT
UID:1982923:Event:488360
DTSTAMP:20260425T001245Z
SUMMARY:Madeleine Peyroux
DESCRIPTION:\r\nΗ πολυαγαπημένη στην Ελλάδα ja
 zz ερμηνεύτρια Madeleine Peyroux, επιστρέφει με
  μια εμφάνιση στο Θέατρο του Κολλεγίου
  Αθηνών, την Πέμπτη 26 Ιανουαρίου, στα π
 αίσια της παγκόσμιας περιοδείας “Carele
 ss Love Forever”, με αφορμή την επανακυκλοφο
 ία του σημαντικότερου album της, “Careless Lo
 ve”, που την εκτόξευσε στην κορυφή.\r\n\r\n
 \r\nΣτην εμφάνιση της στην Αθήνα στις 26 
 ανουαρίου, εκτός από τα τραγούδια του 
 Careless Love, θα μας παρουσιάσει και αγαπημ
 να της τραγούδια από την δισκογραφία 
 ης, μαγεύοντας για άλλη μια φορά το κο
 νό.\r\n\r\n\r\n\n\nFor more information visit https://blues.gr/even
 ts/madeleine-peyroux-1
DTSTART;TZID=Europe/Athens:20230126T000000
DTEND;TZID=Europe/Athens:20230126T235900
CATEGORIES:jazz, blues
LOCATION:Θέατρο του Κολλεγίου Αθηνών
WEBSITE:https://www.facebook.com/halfnote.gr
URL:https://www.facebook.com/halfnote.gr
CONTACT:
ORGANIZER:HALF NOTE JAZZ CLUB
ATTACH;FMTTYPE="image/jpeg":https://storage.ning.com/topology/rest/1.0
 /file/get/10944914253?profile=original
ATTENDEE;ROLE=REQ-PARTICIPANT;PARTSTAT=ACCEPTED;RSVP=TRUE;CN="Music Ne
 twork by Michael Limnios":https://blues.gr/profile/MichalisLimnios
END:VEVENT
END:VCALENDAR
