BEGIN:VCALENDAR
PRODID:NingEventWidget-v1
VERSION:2.0
METHOD:PUBLISH
BEGIN:VTIMEZONE
TZID:Europe/Athens
X-LIC-LOCATION:Europe/Athens
BEGIN:DAYLIGHT
TZOFFSETFROM:+0200
TZOFFSETTO:+0300
TZNAME:EEST
DTSTART:19700329T030000
RRULE:FREQ=YEARLY;BYMONTH=3;BYDAY=-1SU
END:DAYLIGHT
BEGIN:STANDARD
TZOFFSETFROM:+0300
TZOFFSETTO:+0200
TZNAME:EET
DTSTART:19701025T040000
RRULE:FREQ=YEARLY;BYMONTH=10;BYDAY=-1SU
END:STANDARD
END:VTIMEZONE
BEGIN:VEVENT
UID:1982923:Event:110615
DTSTAMP:20260422T060852Z
SUMMARY:Magic Trip: Ken Kesey's Search for a Kool Place
DESCRIPTION:Το συναρπαστικό χρονικό του μυθ
 ικού ρόουντ τριπ του Κεν Κίζι με τους Μ
 έρι Πράνκστερς από την Καλιφόρνια προ
  την Νέα Υόρκη, πάνω στο θρυλικό Magic Bus.\
 nΤο 1964, ο συγγραφέας του μυθιστορήματο
  «Στη Φωλιά του Κούκου» και μια παρέα 
 ίλων μυημένων στις ψυχοτρόπες ουσίες 
 ξεκινούν ένα βυθισμένο στο LSD ταξίδι π
 ος την παρουσίαση του βιβλίου στην Νέ
  Υόρκη. Το τιμόνι αναλαμβάνει ο Νιλ Κά
 ιντι, το αμερικάνικο είδωλο των μπίτν
 κς που κέρδισε την αθανασία μέσω του β
 ιβλίου «Στο Δρόμο», ενώ στην παρέα των 
 νεαρών χίπηδων ανά στιγμές βλέπουμε τ
 ν ίδιο τον Κέρουακ, τον Αλεν Γκίνσμπερ
 γκ - ακόμη και τους Grateful Dead. Οι ταξιδιώτ
 ες αποφασίζουν να καταγράψουν το ταξί
 ι με μία 16άρα κάμερα δημιουργώντας έν
  ντοκιμαντέρ, το οποίο όμως δεν ολοκλη
 ρώθηκε ποτέ. Μετά από επεξεργασία περι
 σσότερων από 100 ωρών οπτικοακουστικού 
 υλικού, σήμερα έχουμε την ευκαιρία να 
 πολαύσουμε στο πανί ένα ζωντανό, ανεκ
 ίμητο και ανεξερεύνητο κομμάτι της αμ
 ερικάνικης ιστορίας.\n\nΣκηνοθεσία: Alex G
 ibney, Alison Ellwood \nΣενάριο: Alex Gibney, Alison Ellwood\n
 Φωτογραφία: Ken Kesey\nMουσική: David Kahne\nΜοντ
 ζ: Alison Ellwood\nΕμφανίζονται: Ken Kesey, Neal Cassady
 , The Grateful Dead\nΧώρα Παραγωγής: ΗΠΑ\nΈτος Π
 ραγωγής: 2011\nΔιάρκεια: 107'\n\n\n\nFor more informat
 ion visit https://blues.gr/events/magic-trip-ken-kesey-s-search-for-a-
 kool-place
DTSTART;TZID=Europe/Athens:20110920T173000
DTEND;TZID=Europe/Athens:20110920T193000
CATEGORIES:film, event
LOCATION:Απόλλων Cinemax Class
WEBSITE:http://www.aiff.gr/article.asp?catid=11256
URL:http://www.aiff.gr/article.asp?catid=11256
CONTACT:210-3228821,  210-3252817
ORGANIZER:Διεθνές Φεστιβάλ Κινηματογράφου
  της Αθήνας Νύχτες Πρεμιέρας Conn-x
ATTACH;FMTTYPE="image/jpeg":http://storage.ning.com/topology/rest/1.0/
 file/get/2252956152?profile=original
ATTENDEE;ROLE=REQ-PARTICIPANT;PARTSTAT=ACCEPTED;RSVP=TRUE;CN="Music Ne
 twork by Michael Limnios":https://blues.gr/profile/MichalisLimnios
END:VEVENT
END:VCALENDAR
