BEGIN:VCALENDAR
PRODID:NingEventWidget-v1
VERSION:2.0
METHOD:PUBLISH
BEGIN:VTIMEZONE
TZID:Europe/Athens
X-LIC-LOCATION:Europe/Athens
BEGIN:DAYLIGHT
TZOFFSETFROM:+0200
TZOFFSETTO:+0300
TZNAME:EEST
DTSTART:19700329T030000
RRULE:FREQ=YEARLY;BYMONTH=3;BYDAY=-1SU
END:DAYLIGHT
BEGIN:STANDARD
TZOFFSETFROM:+0300
TZOFFSETTO:+0200
TZNAME:EET
DTSTART:19701025T040000
RRULE:FREQ=YEARLY;BYMONTH=10;BYDAY=-1SU
END:STANDARD
END:VTIMEZONE
BEGIN:VEVENT
UID:1982923:Event:38932
DTSTAMP:20260423T115559Z
SUMMARY:Martin Turner's Wishbone Ash
DESCRIPTION:Οι Martin Turner's Wishbone Ash, ένα εκ των δυ
 ο συγκροτημάτων με το αυτό όνομα και α
 χηγό τον Marty Turner -το άλλο έχει τον Andy Powe
 ll αν θυμάμαι καλά- παίζουν ζωντανά στη
  Τρίπολη. Εισ. €20, φοιτ. €15.\n\nFor more informat
 ion visit https://blues.gr/events/martin-turners-wishbone-ash
DTSTART;TZID=Europe/Athens:20100120T180000
DTEND;TZID=Europe/Athens:20100120T190000
CATEGORIES:concert
LOCATION:Εν Χορδαίς
WEBSITE:
URL:
CONTACT:
ORGANIZER;CN="Yiannis Oikonomidis":https://blues.gr/profile/YiannisOik
 onomidis
ATTACH;FMTTYPE="image/jpeg":
ATTENDEE;ROLE=REQ-PARTICIPANT;PARTSTAT=ACCEPTED;RSVP=TRUE;CN="Yiannis 
 Oikonomidis":https://blues.gr/profile/YiannisOikonomidis
END:VEVENT
END:VCALENDAR
