BEGIN:VCALENDAR
PRODID:NingEventWidget-v1
VERSION:2.0
METHOD:PUBLISH
BEGIN:VTIMEZONE
TZID:Europe/Athens
X-LIC-LOCATION:Europe/Athens
BEGIN:DAYLIGHT
TZOFFSETFROM:+0200
TZOFFSETTO:+0300
TZNAME:EEST
DTSTART:19700329T030000
RRULE:FREQ=YEARLY;BYMONTH=3;BYDAY=-1SU
END:DAYLIGHT
BEGIN:STANDARD
TZOFFSETFROM:+0300
TZOFFSETTO:+0200
TZNAME:EET
DTSTART:19701025T040000
RRULE:FREQ=YEARLY;BYMONTH=10;BYDAY=-1SU
END:STANDARD
END:VTIMEZONE
BEGIN:VEVENT
UID:1982923:Event:83949
DTSTAMP:20260421T215041Z
SUMMARY:Michael Dotson Band Live at Egalite
DESCRIPTION:O Michael Dotson παίζει “high energy Chicago style
  house rockin’music,ένα ωμό μίγμα από shuffles και 
 boogies με γερές ρίζες  στην παράδοση και 
 γεμάτο καυτή κιθάρα.Δουλεύει σόλο πάν
  από δέκα χρόνια.Το 2006 βγήκε το πρώτο τ
 ου cd “Lightning in my pocket”.O Μichael Dotson είναι έν
 ας παγκοσμίου φήμης bluesman από το Σικάγο
 ,κιθαρίστας,συνθέτης και τραγουδιστής
  και έχει συνεργαστεί με τούς μεγαλύτε
 ρους καλλιτέχνες του είδους.Γιά έξι χρ
 όνια έπαιζε με τον Magic Slim  και μαζί με τ
 α άλλα δύο μέλη της μπάντας έχουν κέρδ
 σει το W.C Handy award γιά την καλύτερη blues band
  στον κόσμο.Έπαιξε γιά τους Aron Burton,Big Time
  Sarah,Little Mac Simmons,Jimmy Burns,Willie Kent,Homesick James,Big J
 ack Johnson και όλη τη σημαντική blues σκηνή.Γ
 ννημένος στο νότιο Σικάγο όπου και με
 άλωσε,απέκτησε τις επιρροές του όταν 
 αν έφηβος κατάφερνε να μπεί στα μπαρ π
 ου εμφανίζονταν όλοι οι θρύλοι της επο
 χής:Muddy Waters,Buddy Guy,Junior Wells,Otis Rush και όλοι 
 σοι ήταν ΄΄η μεγαλύτερη blues σκηνή στον
  κόσμο΄΄.  \nΤον συνοδεύουν οι : Δημήτρ
 ς Ιωάννου στο μπάσο & Νίκος Τσάβαλος σ
 α Ντράμς\n\nFor more information visit https://blues.gr/events
 /michael-dotson-band-live-at
DTSTART;TZID=Europe/Athens:20101217T223000
DTEND;TZID=Europe/Athens:20101218T130000
CATEGORIES:high, energy, chicago, style, house, "rockin’music"
LOCATION:Πευκάκια Νέα Ιωνία
WEBSITE:
URL:
CONTACT:210 2716461
ORGANIZER;CN="Dimitris Ioannou":https://blues.gr/profile/DimitrisIoann
 ou
ATTACH;FMTTYPE="image/jpeg":http://storage.ning.com/topology/rest/1.0/
 file/get/2252946264?profile=original
ATTENDEE;ROLE=REQ-PARTICIPANT;PARTSTAT=ACCEPTED;RSVP=TRUE;CN="Tsiamtsi
 kas Nikolaos":https://blues.gr/profile/TsiamtsikasNikolaos
ATTENDEE;ROLE=REQ-PARTICIPANT;PARTSTAT=ACCEPTED;RSVP=TRUE;CN="Dimitris
  Ioannou":https://blues.gr/profile/DimitrisIoannou
ATTENDEE;ROLE=REQ-PARTICIPANT;PARTSTAT=TENTATIVE;RSVP=TRUE;CN=MALIAS:h
 ttps://blues.gr/profile/MALIAS
ATTENDEE;ROLE=REQ-PARTICIPANT;PARTSTAT=TENTATIVE;RSVP=TRUE;CN="George 
 \"Whiskey\" Stefanakis":https://blues.gr/profile/GeorgeStefanakis
END:VEVENT
END:VCALENDAR
