BEGIN:VCALENDAR
PRODID:NingEventWidget-v1
VERSION:2.0
METHOD:PUBLISH
BEGIN:VTIMEZONE
TZID:Europe/Athens
X-LIC-LOCATION:Europe/Athens
BEGIN:DAYLIGHT
TZOFFSETFROM:+0200
TZOFFSETTO:+0300
TZNAME:EEST
DTSTART:19700329T030000
RRULE:FREQ=YEARLY;BYMONTH=3;BYDAY=-1SU
END:DAYLIGHT
BEGIN:STANDARD
TZOFFSETFROM:+0300
TZOFFSETTO:+0200
TZNAME:EET
DTSTART:19701025T040000
RRULE:FREQ=YEARLY;BYMONTH=10;BYDAY=-1SU
END:STANDARD
END:VTIMEZONE
BEGIN:VEVENT
UID:1982923:Event:84969
DTSTAMP:20260421T222304Z
SUMMARY:Michael Dotson Blues Band  Live at Rooster's Walk ΕΙΣΟΔΟ
 Σ ΕΛΕΥΘΕΡΗ
DESCRIPTION:O Michael Dotson παίζει “high energy Chicago style
  house rockin’music,ένα ωμό μίγμα από shuffles και 
 boogies με γερές ρίζες στην παράδοση και γ
 εμάτο καυτή κιθάρα.Δουλεύει σόλο πάνω 
 από δέκα χρόνια.Το 2006 βγήκε το πρώτο το
 υ cd “Lightning in my pocket”.O Μichael Dotson είναι ένα
 ς παγκοσμίου φήμης bluesman από το Σικάγο,
 ιθαρίστας,συνθέτης και τραγουδιστής 
 αι έχει συνεργαστεί με τούς μεγαλύτερ
 ους καλλιτέχνες του είδους.Γιά έξι χρό
 νια έπαιζε με τον Magic Slim και μαζί με τα 
 λλα δύο μέλη της μπάντας έχουν κέρδίσ
 ι το W.C Handy award γιά την καλύτερη blues band σ
 ον κόσμο.Έπαιξε γιά τους Aron Burton,Big Time Sar
 ah,Little Mac Simmons,Jimmy Burns,Willie Kent,Homesick James,Big Jack 
 Johnson και όλη τη σημαντική blues σκηνή.Γεν
 ημένος στο νότιο Σικάγο όπου και μεγά
 ωσε,απέκτησε τις επιρροές του όταν σα
  έφηβος κατάφερνε να μπεί στα μπαρ που
  εμφανίζονταν όλοι οι θρύλοι της εποχή
 ς:Muddy Waters,Buddy Guy,Junior Wells,Otis Rush και όλοι όσ
 ι ήταν ΄΄η μεγαλύτερη blues σκηνή στον κ
 σμο΄΄.Τον συνοδεύουν οι : Δημήτρης Ιωά
 ννου στο μπάσο & Νίκος Τσάβαλος στα Ντρ
 άμς\n\nFor more information visit https://blues.gr/events/michael-d
 otson-blues-band-3
DTSTART;TZID=Europe/Athens:20101231T230000
DTEND;TZID=Europe/Athens:20110101T030000
CATEGORIES:"“high", energy, chicago, style, house, "rockin’music\"
 "
LOCATION:ROOSTER’S WALK
WEBSITE:
URL:
CONTACT:THΛ   210  3224410
ORGANIZER;CN="Dimitris Ioannou":https://blues.gr/profile/DimitrisIoann
 ou
ATTACH;FMTTYPE="image/jpeg":http://storage.ning.com/topology/rest/1.0/
 file/get/2252946264?profile=original
ATTENDEE;ROLE=REQ-PARTICIPANT;PARTSTAT=ACCEPTED;RSVP=TRUE;CN="Giannis 
 Pachidis":https://blues.gr/profile/ioannis
ATTENDEE;ROLE=REQ-PARTICIPANT;PARTSTAT=ACCEPTED;RSVP=TRUE;CN="pantelad
 is theodor":https://blues.gr/profile/panteladistheodor
ATTENDEE;ROLE=REQ-PARTICIPANT;PARTSTAT=ACCEPTED;RSVP=TRUE;CN="dimitrio
 s doulgeridis":https://blues.gr/profile/dimitriosdoulgeridis
ATTENDEE;ROLE=REQ-PARTICIPANT;PARTSTAT=ACCEPTED;RSVP=TRUE;CN="Tsiamtsi
 kas Nikolaos":https://blues.gr/profile/TsiamtsikasNikolaos
ATTENDEE;ROLE=REQ-PARTICIPANT;PARTSTAT=ACCEPTED;RSVP=TRUE;CN="Dimitris
  Ioannou":https://blues.gr/profile/DimitrisIoannou
END:VEVENT
END:VCALENDAR
