BEGIN:VCALENDAR
PRODID:NingEventWidget-v1
VERSION:2.0
METHOD:PUBLISH
BEGIN:VTIMEZONE
TZID:Europe/Athens
X-LIC-LOCATION:Europe/Athens
BEGIN:DAYLIGHT
TZOFFSETFROM:+0200
TZOFFSETTO:+0300
TZNAME:EEST
DTSTART:19700329T030000
RRULE:FREQ=YEARLY;BYMONTH=3;BYDAY=-1SU
END:DAYLIGHT
BEGIN:STANDARD
TZOFFSETFROM:+0300
TZOFFSETTO:+0200
TZNAME:EET
DTSTART:19701025T040000
RRULE:FREQ=YEARLY;BYMONTH=10;BYDAY=-1SU
END:STANDARD
END:VTIMEZONE
BEGIN:VEVENT
UID:1982923:Event:89867
DTSTAMP:20260421T174159Z
SUMMARY:Michael Dotson Blues Band Στο ROOSTER’S WALK
DESCRIPTION:O Michael Dotson παίζει “high energy Chicago style
  house rockin’music,ένα ωμό μίγμα από shuffles και 
 boogies με γερές ρίζες στην παράδοση και γ
 εμάτο καυτή κιθάρα.Δουλεύει σόλο πάνω 
 από δέκα χρόνια.Το 2006 βγήκε το πρώτο το
 υ cd “Lightning in my pocket”.O Μichael Dotson είναι ένα
 ς παγκοσμίου φήμης bluesman από το Σικάγο,
 ιθαρίστας,συνθέτης και τραγουδιστής 
 αι έχει συνεργαστεί με τούς μεγαλύτερ
 ους καλλιτέχνες του είδους.Γιά έξι χρό
 νια έπαιζε με τον Magic Slim και μαζί με τα 
 λλα δύο μέλη της μπάντας έχουν κέρδίσ
 ι το W.C Handy award γιά την καλύτερη blues band σ
 ον κόσμο.Έπαιξε γιά τους Aron Burton,Big Time Sar
 ah,Little Mac Simmons,Jimmy Burns,Willie Kent,Homesick James,Big Jack 
 Johnson και όλη τη σημαντική blues σκηνή.Γεν
 ημένος στο νότιο Σικάγο όπου και μεγά
 ωσε,απέκτησε τις επιρροές του όταν σα
  έφηβος κατάφερνε να μπεί στα μπαρ που
  εμφανίζονταν όλοι οι θρύλοι της εποχή
 ς:Muddy Waters,Buddy Guy,Junior Wells,Otis Rush και όλοι όσ
 ι ήταν ΄΄η μεγαλύτερη blues σκηνή στον κ
 σμο΄΄.\nΤον συνοδεύουν οι : Δημήτρης Ιω
 άννου στο μπάσο & Νίκος Τσάβαλος στα Ντ
 ράμς\n\nFor more information visit https://blues.gr/events/michael
 -dotson-blues-band-sto
DTSTART;TZID=Europe/Athens:20110122T233000
DTEND;TZID=Europe/Athens:20110123T030000
CATEGORIES:"“high", energy, chicago, style, house, "rockin’music\"
 ."
LOCATION:Στο ROOSTER’S WALK
WEBSITE:
URL:
CONTACT:THΛ   210  3224410
ORGANIZER;CN="Dimitris Ioannou":https://blues.gr/profile/DimitrisIoann
 ou
ATTACH;FMTTYPE="image/jpeg":http://storage.ning.com/topology/rest/1.0/
 file/get/2252946264?profile=original
ATTENDEE;ROLE=REQ-PARTICIPANT;PARTSTAT=ACCEPTED;RSVP=TRUE;CN=MALIAS:ht
 tps://blues.gr/profile/MALIAS
ATTENDEE;ROLE=REQ-PARTICIPANT;PARTSTAT=ACCEPTED;RSVP=TRUE;CN="Tsiamtsi
 kas Nikolaos":https://blues.gr/profile/TsiamtsikasNikolaos
ATTENDEE;ROLE=REQ-PARTICIPANT;PARTSTAT=ACCEPTED;RSVP=TRUE;CN="Dimitris
  Ioannou":https://blues.gr/profile/DimitrisIoannou
END:VEVENT
END:VCALENDAR
