BEGIN:VCALENDAR
PRODID:NingEventWidget-v1
VERSION:2.0
METHOD:PUBLISH
BEGIN:VTIMEZONE
TZID:Europe/Athens
X-LIC-LOCATION:Europe/Athens
BEGIN:DAYLIGHT
TZOFFSETFROM:+0200
TZOFFSETTO:+0300
TZNAME:EEST
DTSTART:19700329T030000
RRULE:FREQ=YEARLY;BYMONTH=3;BYDAY=-1SU
END:DAYLIGHT
BEGIN:STANDARD
TZOFFSETFROM:+0300
TZOFFSETTO:+0200
TZNAME:EET
DTSTART:19701025T040000
RRULE:FREQ=YEARLY;BYMONTH=10;BYDAY=-1SU
END:STANDARD
END:VTIMEZONE
BEGIN:VEVENT
UID:1982923:Event:191547
DTSTAMP:20260425T234259Z
SUMMARY:Michael Dotson Blues Power Trio Live at Rockwood Πέμπτη 
 19 Δεκεμβρίου
DESCRIPTION:\n\nFor more information visit https://blues.gr/events/mic
 hael-dotson-blues-power-trio-live-at-rockwood-19
DTSTART;TZID=Europe/Athens:20131219T213000
DTEND;TZID=Europe/Athens:20131220T003000
CATEGORIES:high, energy, chicago, house, rocking, blues
LOCATION:ROCKWOOD
WEBSITE:https://www.facebook.com/RockwoodAthens?fref=ts
URL:https://www.facebook.com/RockwoodAthens?fref=ts
CONTACT:6980762062
ORGANIZER;CN="Dimitris Ioannou":https://blues.gr/profile/DimitrisIoann
 ou
ATTACH;FMTTYPE="image/jpeg":http://storage.ning.com/topology/rest/1.0/
 file/get/2253014697?profile=original
ATTENDEE;ROLE=REQ-PARTICIPANT;PARTSTAT=ACCEPTED;RSVP=TRUE;CN="Dimitris
  Ioannou":https://blues.gr/profile/DimitrisIoannou
ATTENDEE;ROLE=REQ-PARTICIPANT;PARTSTAT=TENTATIVE;RSVP=TRUE;CN=MALIAS:h
 ttps://blues.gr/profile/MALIAS
END:VEVENT
END:VCALENDAR
