BEGIN:VCALENDAR
PRODID:NingEventWidget-v1
VERSION:2.0
METHOD:PUBLISH
BEGIN:VTIMEZONE
TZID:Europe/Athens
X-LIC-LOCATION:Europe/Athens
BEGIN:DAYLIGHT
TZOFFSETFROM:+0200
TZOFFSETTO:+0300
TZNAME:EEST
DTSTART:19700329T030000
RRULE:FREQ=YEARLY;BYMONTH=3;BYDAY=-1SU
END:DAYLIGHT
BEGIN:STANDARD
TZOFFSETFROM:+0300
TZOFFSETTO:+0200
TZNAME:EET
DTSTART:19701025T040000
RRULE:FREQ=YEARLY;BYMONTH=10;BYDAY=-1SU
END:STANDARD
END:VTIMEZONE
BEGIN:VEVENT
UID:1982923:Event:233615
DTSTAMP:20260421T164200Z
SUMMARY:Michael Dotson Chicago Blues Power Trio
DESCRIPTION:\n\n\nFor more information visit https://blues.gr/events/m
 ichael-dotson-chicago-blues-power-trio-1
DTSTART;TZID=Europe/Athens:20160111T180000
DTEND;TZID=Europe/Athens:20160111T190000
CATEGORIES:chicago, house, "rockin’", blues
LOCATION:BEER TALES
WEBSITE:https://www.facebook.com/BeerTales/
URL:https://www.facebook.com/BeerTales/
CONTACT:2130256151
ORGANIZER;CN="Dimitris Ioannou":https://blues.gr/profile/DimitrisIoann
 ou
ATTACH;FMTTYPE="image/jpeg":http://storage.ning.com/topology/rest/1.0/
 file/get/2253044700?profile=original
ATTENDEE;ROLE=REQ-PARTICIPANT;PARTSTAT=ACCEPTED;RSVP=TRUE;CN="Dimitris
  Ioannou":https://blues.gr/profile/DimitrisIoannou
END:VEVENT
END:VCALENDAR
