BEGIN:VCALENDAR
PRODID:NingEventWidget-v1
VERSION:2.0
METHOD:PUBLISH
BEGIN:VTIMEZONE
TZID:Europe/Athens
X-LIC-LOCATION:Europe/Athens
BEGIN:DAYLIGHT
TZOFFSETFROM:+0200
TZOFFSETTO:+0300
TZNAME:EEST
DTSTART:19700329T030000
RRULE:FREQ=YEARLY;BYMONTH=3;BYDAY=-1SU
END:DAYLIGHT
BEGIN:STANDARD
TZOFFSETFROM:+0300
TZOFFSETTO:+0200
TZNAME:EET
DTSTART:19701025T040000
RRULE:FREQ=YEARLY;BYMONTH=10;BYDAY=-1SU
END:STANDARD
END:VTIMEZONE
BEGIN:VEVENT
UID:1982923:Event:233265
DTSTAMP:20260421T201952Z
SUMMARY:Michael Dotson Chicago blues power triο live
DESCRIPTION:O Michael Dotson είναι ένας παγκοσμίου 
 φήμης bluesman από το Σικάγο. H μουσική του 
 μπορεί να περιγραφεί ως “high energy Chicago-sty
 le house rockin’ blues”, ένα ωμό μίγμα από shuffles 
 και boogies με γερές ρίζες στην παράδοση κ
 αι γεμάτο καυτή κιθάρα. Γέννημα-θρέμμα
  του Νότιου Σικάγο, απέκτησε τις επιρρ
 ές του ήδη από την εφηβεία, τρυπώνοντα
 ς στα μπαρ όπου εμφανίζονταν όλοι οι θ
 ύλοι της εποχής: Muddy Waters, Buddy Guy, Junior Wells, 
 Otis Rush.  Ως κιθαρίστας, συνθέτης και τρα
 ουδιστής έχει συνεργαστεί με τούς μεγ
 αλύτερους καλλιτέχνες του είδους. Υπή
 ξε μέλος των περίφημων Teardrops του Magic Slim
 , ένα σχήμα που απέσπασε το βραβείο W.C Ha
 ndy για την καλύτερη blues μπάντα στον κόσ
 ο. Έχει συνεργαστεί με τους Aaron Burton, Big T
 ime Sarah, Little Mac Simmons, Jimmy Burns, Willie Kent, Homesick Jame
 s, Big Jack Johnson και άλλα ηχηρά ονόματα της b
 lues σκηνής των Η.Π.Α. Εδώ και πάνω από δέ
 α χρόνια ακολουθεί μια πετυχημένη σόλ
 ο καριέρα σε Ευρώπη και Αμερική. Το 2006 
 υκλοφορεί το πρώτο του CD “Lightning in my pocke
 t”.  Τον συνοδεύουν οι : Δημήτρης Ιωάνν
 υ στο μπάσο και Νίκος Τσάβαλος στα ντρ
 αμς\n\nFor more information visit https://blues.gr/events/michael-d
 otson-chicago-blues-power-trip-live-1
DTSTART;TZID=Europe/Athens:20160115T220000
DTEND;TZID=Europe/Athens:20160116T020000
CATEGORIES:live
LOCATION:Hacienda cocktail & cafe bar
WEBSITE:https://m.facebook.com/events/998753856863555?acontext=%7B%22r
 ef%22%3A2%2C%22ref_dashboard_filter%22%3A%22upcoming%22%2C%22action_hi
 story%22%3A%22%5B%7B%5C%22surface%5C%22%3A%5C%22dashboard%5C%22%2C%5C%
 22mechanism%5C%22%3A%5C%22main_list%5C%22%2C%5C%22extra_data%5C%22%3A%
 5B%5D%7D%5D%22%7D&aref=2&arefdashboardfilter=upcoming&ref=bookmarks#!/
 events/998753856863555?acontext=%7B%22ref%22%3A2%2C%22ref_dashboard_fi
 lter%22%3A%22upcoming%22%2C%22action_history%22%3A%22%5B%7B%5C%22surfa
 ce%5C%22%3A%5C%22d
URL:https://m.facebook.com/events/998753856863555?acontext=%7B%22ref%2
 2%3A2%2C%22ref_dashboard_filter%22%3A%22upcoming%22%2C%22action_histor
 y%22%3A%22%5B%7B%5C%22surface%5C%22%3A%5C%22dashboard%5C%22%2C%5C%22me
 chanism%5C%22%3A%5C%22main_list%5C%22%2C%5C%22extra_data%5C%22%3A%5B%5
 D%7D%5D%22%7D&aref=2&arefdashboardfilter=upcoming&ref=bookmarks#!/even
 ts/998753856863555?acontext=%7B%22ref%22%3A2%2C%22ref_dashboard_filter
 %22%3A%22upcoming%22%2C%22action_history%22%3A%22%5B%7B%5C%22surface%5
 C%22%3A%5C%22d
CONTACT:2102533754
ORGANIZER;CN="Giorgos Zafiriadis":https://blues.gr/profile/GiorgosZafi
 riadis
ATTACH;FMTTYPE="image/jpeg":http://storage.ning.com/topology/rest/1.0/
 file/get/2253045063?profile=original
ATTENDEE;ROLE=REQ-PARTICIPANT;PARTSTAT=ACCEPTED;RSVP=TRUE;CN="Dimitris
  Ioannou":https://blues.gr/profile/DimitrisIoannou
ATTENDEE;ROLE=REQ-PARTICIPANT;PARTSTAT=ACCEPTED;RSVP=TRUE;CN="Giorgos 
 Zafiriadis":https://blues.gr/profile/GiorgosZafiriadis
END:VEVENT
END:VCALENDAR
