BEGIN:VCALENDAR
PRODID:NingEventWidget-v1
VERSION:2.0
METHOD:PUBLISH
BEGIN:VTIMEZONE
TZID:Europe/Athens
X-LIC-LOCATION:Europe/Athens
BEGIN:DAYLIGHT
TZOFFSETFROM:+0200
TZOFFSETTO:+0300
TZNAME:EEST
DTSTART:19700329T030000
RRULE:FREQ=YEARLY;BYMONTH=3;BYDAY=-1SU
END:DAYLIGHT
BEGIN:STANDARD
TZOFFSETFROM:+0300
TZOFFSETTO:+0200
TZNAME:EET
DTSTART:19701025T040000
RRULE:FREQ=YEARLY;BYMONTH=10;BYDAY=-1SU
END:STANDARD
END:VTIMEZONE
BEGIN:VEVENT
UID:1982923:Event:233336
DTSTAMP:20260421T164735Z
SUMMARY:Michael Dotson CHICAGO HOUSE ROCKIN’ BLUES
DESCRIPTION:O Michael Dotson είναι ένας παγκοσμίου 
 φήμης bluesman από το Σικάγο. H μουσική του 
 μπορεί να περιγραφεί ως “high energy Chicago-sty
 le house rockin’ blues”. ένα ωμό μίγμα από shuffles 
 και boogies.Τον συνοδεύουν οι : Νίκος Τσάβ
 λος : ντραμς, & Και τα μέλη των BLUES CARGO: Δ
 μήτρης Ιωάννου : μπάσο, Στέλιος Ζαφειρ
 ίου : ηλ. Κιθάρα και Νίκος Σκιαδόπουλος
  : φυσαρμόνικα,.\n\n\nFor more information visit https://bl
 ues.gr/events/michael-dotson-chicago-house-rockin-blues
DTSTART;TZID=Europe/Athens:20160128T220000
DTEND;TZID=Europe/Athens:20160129T190000
CATEGORIES:chicago, house, "rockin’", blues
LOCATION:BOURBON
WEBSITE:http://www.bourbonbar.gr/contact/      https://www.facebook.co
 m/BourbonBarGlifada/
URL:http://www.bourbonbar.gr/contact/      https://www.facebook.com/Bo
 urbonBarGlifada/
CONTACT:21 0964 7600
ORGANIZER;CN="Dimitris Ioannou":https://blues.gr/profile/DimitrisIoann
 ou
ATTACH;FMTTYPE="image/jpeg":http://storage.ning.com/topology/rest/1.0/
 file/get/2253044626?profile=original
ATTENDEE;ROLE=REQ-PARTICIPANT;PARTSTAT=ACCEPTED;RSVP=TRUE;CN="Dimitris
  Ioannou":https://blues.gr/profile/DimitrisIoannou
END:VEVENT
END:VCALENDAR
