BEGIN:VCALENDAR
PRODID:NingEventWidget-v1
VERSION:2.0
METHOD:PUBLISH
BEGIN:VTIMEZONE
TZID:Europe/Athens
X-LIC-LOCATION:Europe/Athens
BEGIN:DAYLIGHT
TZOFFSETFROM:+0200
TZOFFSETTO:+0300
TZNAME:EEST
DTSTART:19700329T030000
RRULE:FREQ=YEARLY;BYMONTH=3;BYDAY=-1SU
END:DAYLIGHT
BEGIN:STANDARD
TZOFFSETFROM:+0300
TZOFFSETTO:+0200
TZNAME:EET
DTSTART:19701025T040000
RRULE:FREQ=YEARLY;BYMONTH=10;BYDAY=-1SU
END:STANDARD
END:VTIMEZONE
BEGIN:VEVENT
UID:1982923:Event:55747
DTSTAMP:20260424T150845Z
SUMMARY:MICHAEL DOTSON @ LAZY CLUB @ VRILISSIA
DESCRIPTION:Michael Dotson: κιθάρα-φωνή, Δημήτρης Ι
 ωάννου: μπάσο, Νίκος Τσάβαλος: ντραμς.\n
 \nΑπόψε έχουμε τη χαρά και την τιμή να φ
 ιλοξενούμε ένα μεγάλο όνομα στο χώρο τ
 ου Blues. Έρχεται κατ’ ευθείαν από το Chicag
 o, με πλούσια δισκογραφία και μεγάλη ισ
 τορία. Κυρίες και κύριοι υποδεχτείτε τ
 ον Michael Dotson! Μαζί με δύο εξαιρετικούς μ
 υσικούς, τον Δημήτρη Ιωάννου (Blues Cargo) κ
 αι τον Νίκο Τσάβαλο στα τύμπανα, διδάσ
 ει πραγματικά το πώς παίζεται το Blues κ
 ι γιατί.\n\nFor more information visit https://blues.gr/events/
 michael-dotson-lazy-club
DTSTART;TZID=Europe/Athens:20100507T223000
DTEND;TZID=Europe/Athens:20100508T020000
CATEGORIES:apotheosis, of, the, blues
LOCATION:LAZY CLUB
WEBSITE:http://www.athinorama.gr/map/default.aspx?cat=3&id=3365
URL:http://www.athinorama.gr/map/default.aspx?cat=3&id=3365
CONTACT:210 6895535
ORGANIZER;CN="Spiros Dramitinos":https://blues.gr/profile/SpirosDramit
 inos
ATTACH;FMTTYPE="image/jpeg":http://storage.ning.com/topology/rest/1.0/
 file/get/2252943006?profile=original
ATTENDEE;ROLE=REQ-PARTICIPANT;PARTSTAT=ACCEPTED;RSVP=TRUE;CN="Spiros D
 ramitinos":https://blues.gr/profile/SpirosDramitinos
END:VEVENT
END:VCALENDAR
