BEGIN:VCALENDAR
PRODID:NingEventWidget-v1
VERSION:2.0
METHOD:PUBLISH
BEGIN:VTIMEZONE
TZID:Europe/Athens
X-LIC-LOCATION:Europe/Athens
BEGIN:DAYLIGHT
TZOFFSETFROM:+0200
TZOFFSETTO:+0300
TZNAME:EEST
DTSTART:19700329T030000
RRULE:FREQ=YEARLY;BYMONTH=3;BYDAY=-1SU
END:DAYLIGHT
BEGIN:STANDARD
TZOFFSETFROM:+0300
TZOFFSETTO:+0200
TZNAME:EET
DTSTART:19701025T040000
RRULE:FREQ=YEARLY;BYMONTH=10;BYDAY=-1SU
END:STANDARD
END:VTIMEZONE
BEGIN:VEVENT
UID:1982923:Event:55203
DTSTAMP:20260421T010923Z
SUMMARY:Michael Dotson Live at Lazy Club
DESCRIPTION:Highh Energy House Rocking Blues By the master and the gro
 ving company of Nick Tsavalos on drums and Dimitris Ioannou on bass.\n
 \nFor more information visit https://blues.gr/events/michael-dotson-li
 ve-at-lazy
DTSTART;TZID=Europe/Athens:20100507T230000
DTEND;TZID=Europe/Athens:20100508T020000
CATEGORIES:high, energy, house, rocking, blues, live
LOCATION:Lazy Club Vrilissia
WEBSITE:
URL:
CONTACT:2106895535
ORGANIZER;CN="Dimitris Ioannou":https://blues.gr/profile/DimitrisIoann
 ou
ATTACH;FMTTYPE="image/jpeg":http://storage.ning.com/topology/rest/1.0/
 file/get/2252942240?profile=original
ATTENDEE;ROLE=REQ-PARTICIPANT;PARTSTAT=ACCEPTED;RSVP=TRUE;CN=Lia:https
 ://blues.gr/profile/Lia
ATTENDEE;ROLE=REQ-PARTICIPANT;PARTSTAT=ACCEPTED;RSVP=TRUE;CN="Dimitris
  Ioannou":https://blues.gr/profile/DimitrisIoannou
END:VEVENT
END:VCALENDAR
