BEGIN:VCALENDAR
PRODID:NingEventWidget-v1
VERSION:2.0
METHOD:PUBLISH
BEGIN:VTIMEZONE
TZID:Europe/Athens
X-LIC-LOCATION:Europe/Athens
BEGIN:DAYLIGHT
TZOFFSETFROM:+0200
TZOFFSETTO:+0300
TZNAME:EEST
DTSTART:19700329T030000
RRULE:FREQ=YEARLY;BYMONTH=3;BYDAY=-1SU
END:DAYLIGHT
BEGIN:STANDARD
TZOFFSETFROM:+0300
TZOFFSETTO:+0200
TZNAME:EET
DTSTART:19701025T040000
RRULE:FREQ=YEARLY;BYMONTH=10;BYDAY=-1SU
END:STANDARD
END:VTIMEZONE
BEGIN:VEVENT
UID:1982923:Event:51369
DTSTAMP:20260425T052004Z
SUMMARY:MICHAEL DOTSON Live at Ypogeio \"BOHEME\"
DESCRIPTION:\nThe High Energy Houserocking Blues at its best. \"Michae
 l Dotson\" the WC handy award winner from Chicago will rock the joint 
 with the groovin' company of \"Dimitris Ioannou\" on Basse and \"Nick 
 Tsavalos\" on Drums.\n\nFor more information visit https://blues.gr/ev
 ents/michael-dotson-live-at-ypogeio
DTSTART;TZID=Europe/Athens:20100417T230000
DTEND;TZID=Europe/Athens:20100418T030000
CATEGORIES:high, energy, houserocking, blues, "gig."
LOCATION:Ypogeio Boheme Helioupolis Athens
WEBSITE:
URL:
CONTACT:210 9958404
ORGANIZER;CN="Dimitris Ioannou":https://blues.gr/profile/DimitrisIoann
 ou
ATTACH;FMTTYPE="image/jpeg":http://storage.ning.com/topology/rest/1.0/
 file/get/2073723175?profile=original
ATTENDEE;ROLE=REQ-PARTICIPANT;PARTSTAT=ACCEPTED;RSVP=TRUE;CN=MALIAS:ht
 tps://blues.gr/profile/MALIAS
ATTENDEE;ROLE=REQ-PARTICIPANT;PARTSTAT=ACCEPTED;RSVP=TRUE;CN="Dimitris
  Ioannou":https://blues.gr/profile/DimitrisIoannou
ATTENDEE;ROLE=REQ-PARTICIPANT;PARTSTAT=TENTATIVE;RSVP=TRUE;CN="Spiros 
 Gavalas":https://blues.gr/profile/SpirosGavalas
END:VEVENT
END:VCALENDAR
