BEGIN:VCALENDAR
PRODID:NingEventWidget-v1
VERSION:2.0
METHOD:PUBLISH
BEGIN:VTIMEZONE
TZID:Europe/Athens
X-LIC-LOCATION:Europe/Athens
BEGIN:DAYLIGHT
TZOFFSETFROM:+0200
TZOFFSETTO:+0300
TZNAME:EEST
DTSTART:19700329T030000
RRULE:FREQ=YEARLY;BYMONTH=3;BYDAY=-1SU
END:DAYLIGHT
BEGIN:STANDARD
TZOFFSETFROM:+0300
TZOFFSETTO:+0200
TZNAME:EET
DTSTART:19701025T040000
RRULE:FREQ=YEARLY;BYMONTH=10;BYDAY=-1SU
END:STANDARD
END:VTIMEZONE
BEGIN:VEVENT
UID:1982923:Event:142954
DTSTAMP:20260424T102651Z
SUMMARY:Michael Dotson Power Trio + Albatross Live at After Dark
DESCRIPTION:O Michael Dotson παίζει “high energy Chicago style
  house rockin’music”,ένα ωμό μίγμα από shuffles κα
 ι boogies με γερές ρίζες  στην παράδοση κα
 ι γεμάτο καυτή κιθάρα.Δουλεύει σόλο πά
 νω από δέκα χρόνια.Το 2006 βγήκε το πρώτο
  του cd “Lightning in my pocket”.O Μichael Dotson είναι 
 νας παγκοσμίου φήμης bluesman από το Σικά
 ο,κιθαρίστας,συνθέτης και τραγουδιστ
 ς και έχει συνεργαστεί με τούς μεγαλύ
 ερους καλλιτέχνες του είδους.Γιά έξι 
 ρόνια έπαιζε με τον Magic Slim  και μαζί με
  τα άλλα δύο μέλη της μπάντας έχουν κέρ
 δίσει το W.C Handy award γιά την καλύτερη blues b
 and στον κόσμο.Έπαιξε γιά τους Aron Burton,Big T
 ime Sarah,Little Mac Simmons,Jimmy Burns,Willie Kent,Homesick James,Bi
 g Jack Johnson και όλη τη σημαντική blues σκηνή.
 Γεννημένος στο νότιο Σικάγο όπου και μ
 εγάλωσε,απέκτησε τις επιρροές του ότα
  σαν έφηβος κατάφερνε να μπεί στα μπαρ
  που εμφανίζονταν όλοι οι θρύλοι της ε
 οχής:Muddy Waters,Buddy Guy,Junior Wells,Otis Rush και όλο
  όσοι ήταν ΄΄η μεγαλύτερη blues σκηνή στ
 ν κόσμο΄΄.   Τον συνοδεύουν οι : Δημήτ
 ης Ιωάννου στο μπάσο & Νίκος Τσάβαλος 
 τα Ντράμς   \nAlbatross new age blues    Albatross formed 
 in 2009 by Thanos Ploumpis and Dimitris Mallis. Despite their short li
 fe, they have already many live performances in several bars, concert 
 halls and festivals in Athens and around Greece. Albatross sound can b
 e best described by energy, emotion and mood.  It was the influence of
  blues that led them to the style of playing and composing, attempting
  a musical trip during their live performances from classic blues and 
 Rock n Roll to Jimi Hendrix and Stevie Ray Vaughan and from the Rock o
 f 70’s and 80’s to new age. Blues, funk, soul and Rock are always 
 among their playlist.\nThanos Plumpis Guitar Vocals Dimitris Mallis Ba
 ss Akis Petropoulos Drums Ringo keyboards Georgia Vocals \n     
                             \n\nFor more i
 nformation visit https://blues.gr/events/michael-dotson-power-trio-alb
 atross-live-at-after-dark
DTSTART;TZID=Europe/Athens:20120406T230000
DTEND;TZID=Europe/Athens:20120407T020000
CATEGORIES:high, energy, chicago, house, rocking, blues, "+", new, age
LOCATION:AFTER DARK
WEBSITE:
URL:
CONTACT:THΛ   210  3606460
ORGANIZER;CN="Dimitris Ioannou":https://blues.gr/profile/DimitrisIoann
 ou
ATTACH;FMTTYPE="image/jpeg":http://storage.ning.com/topology/rest/1.0/
 file/get/2252978186?profile=original
ATTENDEE;ROLE=REQ-PARTICIPANT;PARTSTAT=ACCEPTED;RSVP=TRUE;CN="Dimitris
  Ioannou":https://blues.gr/profile/DimitrisIoannou
END:VEVENT
END:VCALENDAR
