BEGIN:VCALENDAR
PRODID:NingEventWidget-v1
VERSION:2.0
METHOD:PUBLISH
BEGIN:VTIMEZONE
TZID:Europe/Athens
X-LIC-LOCATION:Europe/Athens
BEGIN:DAYLIGHT
TZOFFSETFROM:+0200
TZOFFSETTO:+0300
TZNAME:EEST
DTSTART:19700329T030000
RRULE:FREQ=YEARLY;BYMONTH=3;BYDAY=-1SU
END:DAYLIGHT
BEGIN:STANDARD
TZOFFSETFROM:+0300
TZOFFSETTO:+0200
TZNAME:EET
DTSTART:19701025T040000
RRULE:FREQ=YEARLY;BYMONTH=10;BYDAY=-1SU
END:STANDARD
END:VTIMEZONE
BEGIN:VEVENT
UID:1982923:Event:110787
DTSTAMP:20260422T042507Z
SUMMARY:Michael Radford's film Michel Petrucciani
DESCRIPTION:Ένα διαφωτιστικό κινηματογραφι
 κό πορτρέτο του πιανίστα-φαινομένου τ
 ς τζαζ, Μισέλ Πετρουτσιανί που έμεινε 
 στην ιστορία για το ηλεκτρικό του παίξ
 ιμο, το εξωγήινα γρήγορο δεξί του χέρι 
 και το μόλις 90 εκατοστών ύψος του. «Μισ
 ώ να χάνω χρόνο» δηλώνει ευθαρσώς ο Πε
 ρουτσιανί στην αρχή του ντοκιμαντέρ κ
 αι στη συνέχεια τον παρακολουθούμε να 
 χτίζει μια μυθική καριέρα και μια ζωή 
 λιγγιώδη και ακραία μέχρι και τον χαμ
  του, σε ηλικία 36 ετών, στη Νέα Υόρκη. Α
 ό τους μυθικούς αυτοσχεδιασμούς και τ
 ις μαγευτικές συνθέσεις του μέχρι το π
 άθος του για το φαγητό, τις γυναίκες, τ
  κρασί και τα ναρκωτικά, ο σκηνοθέτης 
 ου οσκαρικού «Il Postino» Μάικλ Ράντφορντ 
 χρησιμοποιεί άφθονο αρχειακό υλικό απ
 ό προσωπικές του στιγμές και συνεντεύ
 εις με κοντινά του πρόσωπα, για να σκι
 γραφήσει το πορτρέτο ενός περφεξιονί
 τα μουσικού. Και γινόμαστε μάρτυρες τ
 ς μαγεμένης ζωής ενός ανθρώπου ο οποί
 ς κέρδιζε λίγα λεπτά ζωής κάθε φορά πο
 υ τα δάχτυλά του άγγιζαν τα πλήκτρα.\nΠ
 οβάλλεται στις 24 Σεπτεμβρίου και στι
  25 Σεπτεμβρίου.\n\nΣκηνοθεσία: Michael Radford\
 nΣενάριο: Michael Radford\nΦωτογραφία: Sophie Maintig
 neux\nΜοντάζ: Yves Deschamps\nEμφανίζονται: Alexandre
  Petrucciani, Aldo Romano, Frank Cassenti, Joe Lovano\nΧώρα Παρ
 αγωγής: Γαλλία, Γερμανία, Ιταλία\nΈτος 
 αραγωγής: 2011\nΔιάρκεια: 102'\n\nFor more informatio
 n visit https://blues.gr/events/michael-radford-s-film-michel-petrucci
 ani
DTSTART;TZID=Europe/Athens:20110924T000000
DTEND;TZID=Europe/Athens:20110925T235900
CATEGORIES:film
LOCATION:ΑΠΟΛΛΩΝ & ΔΑΝΑΟΣ 2
WEBSITE:http://www.aiff.gr/article.asp?catid=11256
URL:http://www.aiff.gr/article.asp?catid=11256
CONTACT:
ORGANIZER:Διεθνές Φεστιβάλ Κινηματογράφου
  της Αθήνας Νύχτες Πρεμιέρας Conn-x
ATTACH;FMTTYPE="image/jpeg":http://storage.ning.com/topology/rest/1.0/
 file/get/2252955181?profile=original
ATTENDEE;ROLE=REQ-PARTICIPANT;PARTSTAT=ACCEPTED;RSVP=TRUE;CN="Music Ne
 twork by Michael Limnios":https://blues.gr/profile/MichalisLimnios
END:VEVENT
END:VCALENDAR
