BEGIN:VCALENDAR
PRODID:NingEventWidget-v1
VERSION:2.0
METHOD:PUBLISH
BEGIN:VTIMEZONE
TZID:Europe/Athens
X-LIC-LOCATION:Europe/Athens
BEGIN:DAYLIGHT
TZOFFSETFROM:+0200
TZOFFSETTO:+0300
TZNAME:EEST
DTSTART:19700329T030000
RRULE:FREQ=YEARLY;BYMONTH=3;BYDAY=-1SU
END:DAYLIGHT
BEGIN:STANDARD
TZOFFSETFROM:+0300
TZOFFSETTO:+0200
TZNAME:EET
DTSTART:19701025T040000
RRULE:FREQ=YEARLY;BYMONTH=10;BYDAY=-1SU
END:STANDARD
END:VTIMEZONE
BEGIN:VEVENT
UID:1982923:Event:165470
DTSTAMP:20260424T214534Z
SUMMARY:Ο Milcho Leviev  και τα κορίτσια του
DESCRIPTION:Πεμπτη 17 Ιανουαριου\nΟ Milcho Leviev  
 αι τα κορίτσια τουΓενική είσοδος: 3€Ώ
 α: 22:00 μμO Milcho Leviev συγκεντρώνει στο πρ
 σωπό του τις ιδιότητες του πιανίστα, σ
 υνθέτη, ενορχηστρωτή, μαέστρου και καθ
 ηγητή της κλασικής και jazz μουσικής. Με 
 περισσότερες από 100 ηχογραφήσεις στο β
 ιογραφικό του και πλήθος κορυφαίων συ
 εργασιών, ο γεννημένος στη Βουλγαρία 
 αλλιτέχνης, έχει κερδίσει το κοινό κα
  τους πιο δύσκολους μουσικοκριτικούς 
 σε όλον τον κόσμο. Ο «Νονός της βαλκανι
 κής τζαζ», όπως τον αποκαλούν, θα εμφαν
 ιστεί την Πέμπτη 17 Ιανουαρίου στο αναν
 εωμένο στέκι της πόλης Burlesque café bar, έχο
 τας στο πλευρό του 4 υπέροχες γυναικεί
 ες φωνές την Μυρτώ Μποζίκη, την Κική Πα
 πατόλη, την Ελευθερία Μυτιλιού και την
  Αριάδνη Μπλομ σε τζαζ και μπλουζ ρυθμ
 ύς. \nΜην το χάσει κανείς!!!\nTo eventhttps://www.
 facebook.com/events/297724843664580/\nΒρείτε μας εύκολα
  πατώντας το παρακάτω link:https://www.facebook.com/
 photo.php?fbid=385794681515091&set=pb.380981665329726.-2207520000.1356
 165435&type=3&theater\nΗ γνωριμία σας με το Burlesque 
 σίγουρα θα είναι για σας μια εμπειρία 
 αι η γνωριμία μας με εσάς τιμή. Απεριό
 ιστη κατανάλωση βαρελίσιας ξανθιάς μ
 ύρας FIX μόνο με 5 ευρώ για τις ώρες 09:00 τ
 ο πρωί έως 22:00 το βράδυ. 50% έκπτωση σε όλ
 α τα προϊόντα καταλόγου 9-11 το πρωί. Οι 
 κπλήξεις του σας περιμένουν να τις αν
 καλύψετε!!!\nΕναλλακτικοί τρόποι επικο
 ινωνίας:\nΔιεύθυνση: \nΣκρα 10, Θεσσαλον
 κη, 54622(στενό πίσω από την εκκλησία Αγ.
 οφία κάθετο στη Αλ.Σβώλου)Τηλ. 2310 288 153E-
 mail: info@burlesque.grFACEBOOK: https://www.facebook.com/Burlesque.c
 afe.barTWITTER: https://twitter.com/Burlesquegrwww.burlesquegr\n\nFor 
 more information visit https://blues.gr/events/milcho-leviev
DTSTART;TZID=Europe/Athens:20130117T220000
DTEND;TZID=Europe/Athens:20130118T013000
CATEGORIES:live
LOCATION:Burlesque cafe bar stage
WEBSITE:http://www.burlesque.gr/
URL:http://www.burlesque.gr/
CONTACT:2310288153
ORGANIZER;CN="Burlesque cafe bar-stage":https://blues.gr/profile/Burle
 squecafebarstage
ATTACH;FMTTYPE="image/jpeg":http://storage.ning.com/topology/rest/1.0/
 file/get/2252997141?profile=original
ATTENDEE;ROLE=REQ-PARTICIPANT;PARTSTAT=ACCEPTED;RSVP=TRUE;CN="Burlesqu
 e cafe bar-stage":https://blues.gr/profile/Burlesquecafebarstage
END:VEVENT
END:VCALENDAR
