BEGIN:VCALENDAR
PRODID:NingEventWidget-v1
VERSION:2.0
METHOD:PUBLISH
BEGIN:VTIMEZONE
TZID:Europe/Athens
X-LIC-LOCATION:Europe/Athens
BEGIN:DAYLIGHT
TZOFFSETFROM:+0200
TZOFFSETTO:+0300
TZNAME:EEST
DTSTART:19700329T030000
RRULE:FREQ=YEARLY;BYMONTH=3;BYDAY=-1SU
END:DAYLIGHT
BEGIN:STANDARD
TZOFFSETFROM:+0300
TZOFFSETTO:+0200
TZNAME:EET
DTSTART:19701025T040000
RRULE:FREQ=YEARLY;BYMONTH=10;BYDAY=-1SU
END:STANDARD
END:VTIMEZONE
BEGIN:VEVENT
UID:1982923:Event:215705
DTSTAMP:20260424T141214Z
SUMMARY:Mob Pepper feat. PEE WEE ELLIS
DESCRIPTION:«O άνθρωπος που εφηύρε την funk», ό
 πως τον αποκαλούν, συνέθεσε μαζί με το
  James Brown τεράστιες επιτυχίες όπως το “C
 old Sweat” και συνεργάστηκε με σπουδαίους
  καλλιτέχνες όπως, μεταξύ άλλων, οι Van Mo
 rrison, George Benson και Hank Crawford, έρχεται στις 12
  Δεκεμβρίου, στο Gazarte.\nΟ Pee Wee Ellis υπήρξε 
 ένας από τους θεμελιωτές του funk ήχου κ
 ι θεωρείται δικαιολογημένα ένας από τ
 ους θρύλους της Funk/Jazz σκηνής. Ξεκίνησε 
 να παίζει πιάνο και κλαρινέτο από πολλ
 ή μικρή ηλικία αλλά στην πορεία τον κέ
 δισε το σαξόφωνο και ο δάσκαλός του Sonn
 y Rollins. Σαξοφωνίστας και ενορχηστρωτής
  του James Brown, o Pee Wee είναι ο άνθρωπος που 
 δωσε πνοή σε παγκόσμιες επιτυχίες όπω
 ς το Cold Sweat, ενώ ακολούθησαν άλλα 26 κομ
 άτια που καθόρισαν αυτό που σήμερα ον
 μάζουμε funk. H επίδραση του Pee Wee στην μο
 σική ήταν τεράστια οδηγώντας κατευθε
 αν στους George Clinton, Sly Stone και έμμεσα στο
  Miles Davis της δεκαετίας του ’70.\n\nΈχει συ
 νεργαστεί με σπουδαίους καλλιτέχνες ό
 πως οι Van Morrison (για 11 χρόνια συνολικά), Es
 ther Phillips, George Benson, Hank Crawford, μεγάλα ονόματ
 α της world μουσικής όπως οι Oumou Sangare (Μαλί
 ), Cheikh Lo (Σενεγάλη), Ali Farka Toure, Cheikh Lo\"Lampfall
  και τους θρύλους της μουσικής της Κο
 βας, Cachaito  και Miguel Anga Diaz. Έχει δουλέψε
  ως ενορχηστρωτής για σπουδαίες δισκο
 γραφικές εταιρείες όπως CTI-Kudu records και 
  World Circuit Records, ενώ έχει περιοδεύσει με 
 ους σπουδαίους JB Horns, Fred Wesley και Maceo Parker
 .\n\nFor more information visit https://blues.gr/events/mob-pepper-fea
 t-pee-wee-ellis
DTSTART;TZID=Europe/Athens:20141212T000000
DTEND;TZID=Europe/Athens:20141212T235900
CATEGORIES:funk, jazz, soul
LOCATION:Gazarte
WEBSITE:
URL:
CONTACT:2103460347
ORGANIZER:Gazarte
ATTACH;FMTTYPE="image/jpeg":http://storage.ning.com/topology/rest/1.0/
 file/get/2253033846?profile=original
ATTENDEE;ROLE=REQ-PARTICIPANT;PARTSTAT=ACCEPTED;RSVP=TRUE;CN="Music Ne
 twork by Michael Limnios":https://blues.gr/profile/MichalisLimnios
END:VEVENT
END:VCALENDAR
