BEGIN:VCALENDAR
PRODID:NingEventWidget-v1
VERSION:2.0
METHOD:PUBLISH
BEGIN:VTIMEZONE
TZID:Europe/Athens
X-LIC-LOCATION:Europe/Athens
BEGIN:DAYLIGHT
TZOFFSETFROM:+0200
TZOFFSETTO:+0300
TZNAME:EEST
DTSTART:19700329T030000
RRULE:FREQ=YEARLY;BYMONTH=3;BYDAY=-1SU
END:DAYLIGHT
BEGIN:STANDARD
TZOFFSETFROM:+0300
TZOFFSETTO:+0200
TZNAME:EET
DTSTART:19701025T040000
RRULE:FREQ=YEARLY;BYMONTH=10;BYDAY=-1SU
END:STANDARD
END:VTIMEZONE
BEGIN:VEVENT
UID:1982923:Event:346917
DTSTAMP:20260422T144302Z
SUMMARY:Monty Alexander
DESCRIPTION:O θρύλος της τζαζ, Monty Alexander, έρχε
 αι για πρώτη φορά στην Ελλάδα με το τρ
 ο project του και τις διαχρονικές μελωδίε
 ς του, στην κεντρική σκηνή του Gazarte, την
  Κυριακή 24 Νοεμβρίου!Πρόκειται για ένα
 ν από τους σημαντικότερους εν ζωή καλλ
 ιτέχνες, με περισσότερες από πέντε δεκ
 αετίες στη μουσική και παραπάνω από 75 
 ροσωπικές κυκλοφορίες, που έχει αναφε
 ρθεί ως ο πέμπτος σπουδαιότερος πιανί
 τας στην ιστορία της τζαζ μουσικής. Απ
 ό τότε που τον ανακάλυψε ο Frank Sinatra τυχα
 ία σε ένα club στο Miami έως τον θρυλικό δίσ
 κο «Harlem-Kingston Express», που τάραξε τα νερά τ
 ης τζαζ σκηνής και έδωσε την δική του π
 ινελιά σε τραγούδια όπως τo No Woman No Cry κα
 ι Could You Be Loved, έχει μοιραστεί την σκηνή 
 χεδόν με όλες τις ιστορικές μουσικές 
 ροσωπικότητες, από τον Ray Brown, τον Miles Dav
 is, τον Frank Sinatra, τον Dizzy Gillespie και τον Sonny R
 ollins έως τον Ernest Ranglin και τους Sly and Robbie.\r\
 n\n\nFor more information visit https://blues.gr/events/monty-alexande
 r
DTSTART;TZID=Europe/Athens:20191124T000000
DTEND;TZID=Europe/Athens:20191124T235900
CATEGORIES:jazz
LOCATION:Gazarte
WEBSITE:
URL:
CONTACT:
ORGANIZER:Gazarte
ATTACH;FMTTYPE="image/jpeg":https://storage.ning.com/topology/rest/1.0
 /file/get/3674975581?profile=original
ATTENDEE;ROLE=REQ-PARTICIPANT;PARTSTAT=ACCEPTED;RSVP=TRUE;CN="Music Ne
 twork by Michael Limnios":https://blues.gr/profile/MichalisLimnios
END:VEVENT
END:VCALENDAR
