BEGIN:VCALENDAR
PRODID:NingEventWidget-v1
VERSION:2.0
METHOD:PUBLISH
BEGIN:VTIMEZONE
TZID:Europe/Athens
X-LIC-LOCATION:Europe/Athens
BEGIN:DAYLIGHT
TZOFFSETFROM:+0200
TZOFFSETTO:+0300
TZNAME:EEST
DTSTART:19700329T030000
RRULE:FREQ=YEARLY;BYMONTH=3;BYDAY=-1SU
END:DAYLIGHT
BEGIN:STANDARD
TZOFFSETFROM:+0300
TZOFFSETTO:+0200
TZNAME:EET
DTSTART:19701025T040000
RRULE:FREQ=YEARLY;BYMONTH=10;BYDAY=-1SU
END:STANDARD
END:VTIMEZONE
BEGIN:VEVENT
UID:1982923:Event:19178
DTSTAMP:20260423T043229Z
SUMMARY:MR KILLJOY & HIS FUNCTIONAL JUNKIES PARY-DJ SET AT L.A. ROCK C
 LUB!!!
DESCRIPTION:ΥΠΑΡΧΟΥΝ ΤΟΥΛΑΧΙΣΤΟΝ 3 ΛΟΓΟΙ ΓΙ
  ΤΟΥΣ ΟΠΟΙΟΥΣ ΜΠΟΡΕΙΤΕ ΝΑ ΕΡΘΕΤΕ ΣΤΟ PA
 RTY-DJ SET ΤΩΝ MR KILLJOY & HIS FUNCTIONAL JUNKIES ΤΗΝ ΠΑΡΑ
 ΚΕΥΗ 27-2 ΣΤΟ L.A. ROCK CLUB (ΜΕΘΩΝΗΣ 58, ΕΞΑΡΧΕ
 Α): 1) (ΔΙΧΩΣ ΠΡΟΘΕΣΗ ΑΝΤΑΓΩΝΙΣΜΟΥ) ΕΧΟΥ
 ΜΕ ΤΗΝ ΚΑΛΥΤΕΡΗ ΑΦΙΣΑ!!! 2) ΘΑ ΑΚΟΥΣΤΕΙ Ξ
 ΕΦΡΕΝΟ ROCK N' ROLL ΣΕ ΟΛΕΣ ΤΙΣ ΠΙΘΑΝΕΣ ΤΟΥ 
 ΚΔΟΧΕΣ!!! 3) ΜΠΟΡΕΙΤΕ ΝΑ ΕΡΘΕΤΕ ΟΠΟΤΕ ΘΕ
 ΛΕΤΕ, ΟΣΟΙ ΕΙΣΤΕ, ΟΠΩΣ ΚΙ ΑΝ ΕΙΣΤΕ!!!\nΣΑ
  ΠΕΡΙΜΕΝΟΥΜΕ ΕΝΑΓΩΝΙΩΣ!!!\n\nFor more information
  visit https://blues.gr/events/mr-killjoy-his-functional-1
DTSTART;TZID=Europe/Athens:20090227T180000
DTEND;TZID=Europe/Athens:20090228T190000
CATEGORIES:"it's", only, rock, "n'", roll, "(...but", we, like, "it!!!
 !)", allnight-allday, "party!!!"
LOCATION:L.A. ROCK CLUB
WEBSITE:
URL:
CONTACT:MR KILLJOY & HIS FUNCTIONAL JUNKIES
ORGANIZER;CN=Panther:https://blues.gr/profile/Panther
ATTACH;FMTTYPE="image/jpeg":http://storage.ning.com/topology/rest/1.0/
 file/get/2252936719?profile=original
ATTENDEE;ROLE=REQ-PARTICIPANT;PARTSTAT=ACCEPTED;RSVP=TRUE;CN="George \
 "Whiskey\" Stefanakis":https://blues.gr/profile/GeorgeStefanakis
ATTENDEE;ROLE=REQ-PARTICIPANT;PARTSTAT=ACCEPTED;RSVP=TRUE;CN=Panther:h
 ttps://blues.gr/profile/Panther
END:VEVENT
END:VCALENDAR
