BEGIN:VCALENDAR
PRODID:NingEventWidget-v1
VERSION:2.0
METHOD:PUBLISH
BEGIN:VTIMEZONE
TZID:Europe/Athens
X-LIC-LOCATION:Europe/Athens
BEGIN:DAYLIGHT
TZOFFSETFROM:+0200
TZOFFSETTO:+0300
TZNAME:EEST
DTSTART:19700329T030000
RRULE:FREQ=YEARLY;BYMONTH=3;BYDAY=-1SU
END:DAYLIGHT
BEGIN:STANDARD
TZOFFSETFROM:+0300
TZOFFSETTO:+0200
TZNAME:EET
DTSTART:19701025T040000
RRULE:FREQ=YEARLY;BYMONTH=10;BYDAY=-1SU
END:STANDARD
END:VTIMEZONE
BEGIN:VEVENT
UID:1982923:Event:43309
DTSTAMP:20260422T031112Z
SUMMARY:Muddy Roads + Band Temper Live @ Primitive
DESCRIPTION:Muddy Roads και Band Temper σε κοινή εμφάν
 ση με κέφι και δυνατές μουσικές στο Prim
 itive Stage Club στου Ψυρρή στις 23.00\n\nPrimitive Stage
  Club\nΣαρρή 41, Ψυρρή.\n\nMuddy Roads are:\nΠάνος Πο
 υλίζος (κιθάρα,φωνή, φυσαρμόνικα)\nΣπύρ
 ος Πελεκάνος (κιθάρα)\nΤίτος Ματσάκος (
 πάσο)\nΠέτρος Ματσάκος (τύμπανα)\nhttp://www
 .myspace.com/muddyroadsband\n\nBand Temper are:\nΜαρία Κατσε
 νεβάκι (φωνή)\nΣπύρος Σακελλαρίου (μπάσ
 ο)\nΝίκος Ζαμινός (κιθάρα)\nΒασίλης Σιατ
 ραβάνης (κιθάρα)\nΧάρης Καράπας (κιθάρα
 ,φωνή)\nΓιάννης Φασούλας (τύμπανα,φωνή)\
 nhttp://www.myspace.com/bandtemper\n\nFor more information visit https
 ://blues.gr/events/muddy-roads-band-temper-live
DTSTART;TZID=Europe/Athens:20100219T230000
DTEND;TZID=Europe/Athens:20100220T020000
CATEGORIES:live, performance
LOCATION:Primitive Stage Club
WEBSITE:http://maps.google.com/maps?f=q&source=s_q&hl=en&geocode=&q=%C
 F%83%CE%B1%CF%81%CF%81%CE%AE+41,+10554,+%CE%B1%CE%B8%CE%AE%CE%BD%CE%B1
 &mrt=all&sll=37.978693,23.722588&sspn=0.002998,0.004823&ie=UTF8&hq=&hn
 ear=%CE%A3%CE%B1%CF%81%CF%81%CE%AE+41,+%CE%91%CE%B8%CE%AE%CE%BD%CE%B1+
 10554,+%CE%91%CE%B8%CE%AE%CE%BD%CE%B1,+Greece&z=16
URL:http://maps.google.com/maps?f=q&source=s_q&hl=en&geocode=&q=%CF%83
 %CE%B1%CF%81%CF%81%CE%AE+41,+10554,+%CE%B1%CE%B8%CE%AE%CE%BD%CE%B1&mrt
 =all&sll=37.978693,23.722588&sspn=0.002998,0.004823&ie=UTF8&hq=&hnear=
 %CE%A3%CE%B1%CF%81%CF%81%CE%AE+41,+%CE%91%CE%B8%CE%AE%CE%BD%CE%B1+1055
 4,+%CE%91%CE%B8%CE%AE%CE%BD%CE%B1,+Greece&z=16
CONTACT:
ORGANIZER:Band Temper
ATTACH;FMTTYPE="image/jpeg":http://storage.ning.com/topology/rest/1.0/
 file/get/2252939002?profile=original
ATTENDEE;ROLE=REQ-PARTICIPANT;PARTSTAT=ACCEPTED;RSVP=TRUE;CN="Tsiamtsi
 kas Nikolaos":https://blues.gr/profile/TsiamtsikasNikolaos
ATTENDEE;ROLE=REQ-PARTICIPANT;PARTSTAT=ACCEPTED;RSVP=TRUE;CN="Petros M
 atsakos":https://blues.gr/profile/PetrosMatsakos
ATTENDEE;ROLE=REQ-PARTICIPANT;PARTSTAT=TENTATIVE;RSVP=TRUE;CN="tony do
 llaro":https://blues.gr/profile/tonydollaro
END:VEVENT
END:VCALENDAR
