BEGIN:VCALENDAR
PRODID:NingEventWidget-v1
VERSION:2.0
METHOD:PUBLISH
BEGIN:VTIMEZONE
TZID:Europe/Athens
X-LIC-LOCATION:Europe/Athens
BEGIN:DAYLIGHT
TZOFFSETFROM:+0200
TZOFFSETTO:+0300
TZNAME:EEST
DTSTART:19700329T030000
RRULE:FREQ=YEARLY;BYMONTH=3;BYDAY=-1SU
END:DAYLIGHT
BEGIN:STANDARD
TZOFFSETFROM:+0300
TZOFFSETTO:+0200
TZNAME:EET
DTSTART:19701025T040000
RRULE:FREQ=YEARLY;BYMONTH=10;BYDAY=-1SU
END:STANDARD
END:VTIMEZONE
BEGIN:VEVENT
UID:1982923:Event:51849
DTSTAMP:20260423T030618Z
SUMMARY:Muddy Roads + Dagobah System LIVE @ Rodeo Club Sunday 18 April
  2010
DESCRIPTION:Tο Blues συναντά την Hip Hop !\nMuddy Roads κ
 ι Dagobah System\nζωντανά\nτην Κυριακή 18 Απρι
 ίου\nστο RODEO, Χέϋδεν 34 , Πλατεία Βικτωρί
 ας\nστα πλαίσια του\n7th Summer In The City Festival\n
 αι της παρουσίασης νέου δίσκου των Dagob
 ah System\n\nwww.myspace.com/muddyroadsband\nwww.myspace.com/dagobahsy
 stemmusic\n\n\n\nRodeo\nΧέϋδεν 34 , Πλατεία Βικτωρ
 ας\nΤηλ. 210 88 14 702 begin_of_the_skype_highlighting     
          210 88 14 702      end_of_the_skype_highlighti
 ng begin_of_the_skype_highlighting              210 88 1
 4 702      end_of_the_skype_highlighting\n\nΏρα έναρξη
  21:00\nΕίσοδος: 8€ με μπύρα\n\nFor more information 
 visit https://blues.gr/events/muddy-roads-dagobah-system
DTSTART;TZID=Europe/Athens:20100418T210000
DTEND;TZID=Europe/Athens:20100419T010000
CATEGORIES:live, performance
LOCATION:Rodeo
WEBSITE:
URL:
CONTACT:210 88 14 702
ORGANIZER:Rodeo
ATTACH;FMTTYPE="image/jpeg":http://storage.ning.com/topology/rest/1.0/
 file/get/2252941434?profile=original
ATTENDEE;ROLE=REQ-PARTICIPANT;PARTSTAT=ACCEPTED;RSVP=TRUE;CN=Panos:htt
 ps://blues.gr/profile/Panos
ATTENDEE;ROLE=REQ-PARTICIPANT;PARTSTAT=ACCEPTED;RSVP=TRUE;CN="Tsiamtsi
 kas Nikolaos":https://blues.gr/profile/TsiamtsikasNikolaos
ATTENDEE;ROLE=REQ-PARTICIPANT;PARTSTAT=ACCEPTED;RSVP=TRUE;CN="Petros M
 atsakos":https://blues.gr/profile/PetrosMatsakos
ATTENDEE;ROLE=REQ-PARTICIPANT;PARTSTAT=TENTATIVE;RSVP=TRUE;CN="Drummat
 ic Style":https://blues.gr/profile/style
END:VEVENT
END:VCALENDAR
