BEGIN:VCALENDAR
PRODID:NingEventWidget-v1
VERSION:2.0
METHOD:PUBLISH
BEGIN:VTIMEZONE
TZID:Europe/Athens
X-LIC-LOCATION:Europe/Athens
BEGIN:DAYLIGHT
TZOFFSETFROM:+0200
TZOFFSETTO:+0300
TZNAME:EEST
DTSTART:19700329T030000
RRULE:FREQ=YEARLY;BYMONTH=3;BYDAY=-1SU
END:DAYLIGHT
BEGIN:STANDARD
TZOFFSETFROM:+0300
TZOFFSETTO:+0200
TZNAME:EET
DTSTART:19701025T040000
RRULE:FREQ=YEARLY;BYMONTH=10;BYDAY=-1SU
END:STANDARD
END:VTIMEZONE
BEGIN:VEVENT
UID:1982923:Event:97161
DTSTAMP:20260421T220137Z
SUMMARY:Muddy Roads Live @ Rooster's Walk
DESCRIPTION:Bluesing at the Crossroads\n \n \nΠαρασκευή 25 
 Μαρτίου στο Rooster's Walk στην πλατεία Αγία
  Ειρήνης (δίπλα στην Αιόλου και Ερμού 
 το Μοναστηράκι) παίζουμε τα Bluessss! Aλλο
 ε της ενέργειας και άλλοτε του παραπό
 ου, όπως και να έχει σας καλούμε όλους 
 εσάς τους φίλους μας να συμμετέχετε.Ο 
 άνος Πουλίζος (κιθάρα, φωνή, φισαρμόνι
 κα) και ο Σπύρος Πελεκάνος(κιθάρα), σας 
 ταξιδεύουν στο Blues κλίμα του Chicago και τ
 υ Texas ενω οι Ματσάκος Groove machine (Τίτος Μα
 τσάκος μπάσο, Πέτρος Ματσάκος ντράμς) 
 ας δονούν με τις More...ρυθμικές συχνότη
 ες που έχουμε ανάγκη.Είσοδος Ελεύθερη
  !www.myspace.com/muddyroadsband\n\nFor more information visit https:/
 /blues.gr/events/muddy-roads-live-roosters-1
DTSTART;TZID=Europe/Athens:20110325T223000
DTEND;TZID=Europe/Athens:20110326T020000
CATEGORIES:live
LOCATION:Rooster's Walk Πλατεία Αγίας Ειρήνης
WEBSITE:http://maps.google.com/maps?f=q&source=s_q&hl=en&geocode=&q=%C
 E%A0%CE%BB%CE%B1%CF%84%CE%B5%CE%AF%CE%B1+%CE%91%CE%B3%CE%AF%CE%B1%CF%8
 2+%CE%95%CE%B9%CF%81%CE%AE%CE%BD%CE%B7%CF%82,+%CE%91%CE%B8%CE%AE%CE%BD
 %CE%B1,+%CE%95%CE%BB%CE%BB%CE%AC%CE%B4%CE%B1&aq=0&sll=37.97918,23.7166
 47&sspn=0.190516,0.308647&ie=UTF8&hq=&hnear=Plateia+Agias+Eirinis,+Ath
 ina+10560,+Athina,+Greece&ll=37.976934,23.727765&spn=0.002977,0.004823
 &z=18
URL:http://maps.google.com/maps?f=q&source=s_q&hl=en&geocode=&q=%CE%A0
 %CE%BB%CE%B1%CF%84%CE%B5%CE%AF%CE%B1+%CE%91%CE%B3%CE%AF%CE%B1%CF%82+%C
 E%95%CE%B9%CF%81%CE%AE%CE%BD%CE%B7%CF%82,+%CE%91%CE%B8%CE%AE%CE%BD%CE%
 B1,+%CE%95%CE%BB%CE%BB%CE%AC%CE%B4%CE%B1&aq=0&sll=37.97918,23.716647&s
 spn=0.190516,0.308647&ie=UTF8&hq=&hnear=Plateia+Agias+Eirinis,+Athina+
 10560,+Athina,+Greece&ll=37.976934,23.727765&spn=0.002977,0.004823&z=1
 8
CONTACT:
ORGANIZER;CN="Petros Matsakos":https://blues.gr/profile/PetrosMatsakos
ATTACH;FMTTYPE="image/jpeg":http://storage.ning.com/topology/rest/1.0/
 file/get/2252949480?profile=original
ATTENDEE;ROLE=REQ-PARTICIPANT;PARTSTAT=ACCEPTED;RSVP=TRUE;CN="Tsiamtsi
 kas Nikolaos":https://blues.gr/profile/TsiamtsikasNikolaos
ATTENDEE;ROLE=REQ-PARTICIPANT;PARTSTAT=ACCEPTED;RSVP=TRUE;CN="Talking 
 blues":https://blues.gr/profile/Ninna
ATTENDEE;ROLE=REQ-PARTICIPANT;PARTSTAT=ACCEPTED;RSVP=TRUE;CN="Petros M
 atsakos":https://blues.gr/profile/PetrosMatsakos
ATTENDEE;ROLE=REQ-PARTICIPANT;PARTSTAT=TENTATIVE;RSVP=TRUE;CN="Giannis
  Pachidis":https://blues.gr/profile/ioannis
END:VEVENT
END:VCALENDAR
