BEGIN:VCALENDAR
PRODID:NingEventWidget-v1
VERSION:2.0
METHOD:PUBLISH
BEGIN:VTIMEZONE
TZID:Europe/Athens
X-LIC-LOCATION:Europe/Athens
BEGIN:DAYLIGHT
TZOFFSETFROM:+0200
TZOFFSETTO:+0300
TZNAME:EEST
DTSTART:19700329T030000
RRULE:FREQ=YEARLY;BYMONTH=3;BYDAY=-1SU
END:DAYLIGHT
BEGIN:STANDARD
TZOFFSETFROM:+0300
TZOFFSETTO:+0200
TZNAME:EET
DTSTART:19701025T040000
RRULE:FREQ=YEARLY;BYMONTH=10;BYDAY=-1SU
END:STANDARD
END:VTIMEZONE
BEGIN:VEVENT
UID:1982923:Event:103892
DTSTAMP:20260420T131622Z
SUMMARY:Music World Expo 2011
DESCRIPTION:Από την Παρασκευή 20 Μαίου 2011 έως
  και την Κυριακή 22 Μαίου 2011, η Μουσική κ
 αι οι Τεχνολογίες της, θα βρίσκονται σ
 ο Ζάππειο Μέγαρο, στα πλαίσια της πρώτ
 ης έκθεσης Music World Expo. Οι επισκέπτες της
  έκθεσης θα έχουν τη δυνατότητα να δου
  από κοντά προϊόντα μουσικής τεχνολογ
 ίας, μουσικά όργανα, μικρά και μεγαλύτ
 ρα ηχητικά συστήματα, εξοπλισμό DJing, α
 εσουάρ και παρελκόμενα για μουσικούς 
 και επαγγελματίες του ήχου και οπτικο
 κουστικές εφαρμογές. Σύμφωνα με το δε
 τίο τύπου, σκοπός των διοργανωτών είν
 ι να καταφέρουν σε σύντομο χρονικό δι
 στημα να δημιουργήσουν μια έκθεση – θ
 εσμό, όπου οι μουσικοί (επαγγελματίες, 
 ερασιτέχνες, χομπίστες) και οι επαγγελ
 ματίες του ήχου και της ευρύτερης μουσ
 ικής βιομηχανίας, θα έρχονται κάθε χρό
 νο σε επαφή με νέα προϊόντα και υπηρεσ
 ες από τις εταιρείες του ευρύτερου κλ
 δου της μουσικής βιομηχανίας. Παράλλη
 λα, όλα αυτά θα συνδυάζονται με μουσικ
 ς εκδηλώσεις, events και live demos στον προαύ
 λιο χώρο του Ζαππείου, προκειμένου η Mus
 ic World Expo να αποτελέσει την ετήσια γιορτ
 ή της μουσικής και της τεχνολογίας της
 . Για περισσότερες πληροφορίες επισκε
 θείτε το http://www.musicworldexpo.gr/\n\nFor more informatio
 n visit https://blues.gr/events/music-world-expo-2011
DTSTART;TZID=Europe/Athens:20110520T110000
DTEND;TZID=Europe/Athens:20110522T210000
CATEGORIES:event
LOCATION:Ζάππειο Μέγαρο
WEBSITE:http://www.musicworldexpo.gr/
URL:http://www.musicworldexpo.gr/
CONTACT:210 924.5577
ORGANIZER:www.verticom.gr
ATTACH;FMTTYPE="image/jpeg":http://storage.ning.com/topology/rest/1.0/
 file/get/2252950143?profile=original
ATTENDEE;ROLE=REQ-PARTICIPANT;PARTSTAT=ACCEPTED;RSVP=TRUE;CN="Music Ne
 twork by Michael Limnios":https://blues.gr/profile/MichalisLimnios
END:VEVENT
END:VCALENDAR
