BEGIN:VCALENDAR
PRODID:NingEventWidget-v1
VERSION:2.0
METHOD:PUBLISH
BEGIN:VTIMEZONE
TZID:Europe/Athens
X-LIC-LOCATION:Europe/Athens
BEGIN:DAYLIGHT
TZOFFSETFROM:+0200
TZOFFSETTO:+0300
TZNAME:EEST
DTSTART:19700329T030000
RRULE:FREQ=YEARLY;BYMONTH=3;BYDAY=-1SU
END:DAYLIGHT
BEGIN:STANDARD
TZOFFSETFROM:+0300
TZOFFSETTO:+0200
TZNAME:EET
DTSTART:19701025T040000
RRULE:FREQ=YEARLY;BYMONTH=10;BYDAY=-1SU
END:STANDARD
END:VTIMEZONE
BEGIN:VEVENT
UID:1982923:Event:353989
DTSTAMP:20260422T093738Z
SUMMARY:Nassia and the Bluesmakers live @ Jazzet
DESCRIPTION:Nassia and the Bluesmakers  Φωνή : Νάσια Γκόφ
 α Ντραμς: Χρήστος Ανδριανός\nΜπάσο: Φώτ
 ης Δασκαλάκης Κιθάρα : Γιώργος Χρυσόπο
 υλος\n To αυθεντικό τζαζ κλαμπ της πόλης
 , Jazzét Café, την Παρασκευή 15 Νοεμβρίου , υ
 οδέχεται στην καλαίσθητη σκηνή του, σ
  πρώτη παρουσίαση, τους \"Nassia and the Bluesmake
 rs\", ένα νεοσύστατο σχήμα με σκοπό να τα
 ξιδέψει τον ακροατή στον μαγικό κόσμο 
 των blues παλαιότερων δεκαετιών. Θρυλικο
 ί καλλιτέχνες του είδους όπως οι Dinah Wash
 ington, Big mama Thornton, Jimmy Reed, T-bone Walker αναβιώνο
 ν μέσα από το setlist της μπάντας όπου απα
 ρτίζεται από την mainstream jazz τραγουδίστρ
 α αλλά πολύπλευρη καλλιτεχνική προσω
 ικότητα Νάσσια Γκόφα και τους επίλεκτ
 ους μουσικούς Γιώργο Χρυσόπουλο στην 
 ιθάρα, Φώτη Δασκαλάκη στο μπάσο και Χρ
 ήστο Ανδριανό στα ντραμς. Μία blues βραδι
 ά που θα σαγηνεύσει μουσικά, το φιλότε
 νο ακροατήριο του Jazzet Café.   ΕΙΣΙΤΗΡΙΟ 6
 € ΚΡΑΤΗΣΕΙΣ 210 5815626 JAZZET CAFE - ΚΑΡΑΪΣΚΑΚΗ 
 99-101, ΧΑΪΔΑΡΙ, 12461\n\nFor more information visit https://bl
 ues.gr/events/nassia-amp-the-bluesmakers-live-jazzet
DTSTART;TZID=Europe/Athens:20191115T223000
DTEND;TZID=Europe/Athens:20191116T010000
CATEGORIES:gig
LOCATION:Jazzét Café
WEBSITE:https://www.facebook.com/MusicCenterAthens/?eid=ARBDq08xWTihl2
 QS4a00IvtFXNiye24klteWPVIfEeXistEfTTc3N9Y6aRuTZgLanjfDpDKci4v3OMhN
URL:https://www.facebook.com/MusicCenterAthens/?eid=ARBDq08xWTihl2QS4a
 00IvtFXNiye24klteWPVIfEeXistEfTTc3N9Y6aRuTZgLanjfDpDKci4v3OMhN
CONTACT:210 5815626
ORGANIZER;CN="Giorgos Chrisopoulos":https://blues.gr/profile/GiorgosXr
ATTACH;FMTTYPE="image/jpeg":https://storage.ning.com/topology/rest/1.0
 /file/get/3707138766?profile=original
ATTENDEE;ROLE=REQ-PARTICIPANT;PARTSTAT=ACCEPTED;RSVP=TRUE;CN="Giorgos 
 Chrisopoulos":https://blues.gr/profile/GiorgosXr
END:VEVENT
END:VCALENDAR
