BEGIN:VCALENDAR
PRODID:NingEventWidget-v1
VERSION:2.0
METHOD:PUBLISH
BEGIN:VTIMEZONE
TZID:Europe/Athens
X-LIC-LOCATION:Europe/Athens
BEGIN:DAYLIGHT
TZOFFSETFROM:+0200
TZOFFSETTO:+0300
TZNAME:EEST
DTSTART:19700329T030000
RRULE:FREQ=YEARLY;BYMONTH=3;BYDAY=-1SU
END:DAYLIGHT
BEGIN:STANDARD
TZOFFSETFROM:+0300
TZOFFSETTO:+0200
TZNAME:EET
DTSTART:19701025T040000
RRULE:FREQ=YEARLY;BYMONTH=10;BYDAY=-1SU
END:STANDARD
END:VTIMEZONE
BEGIN:VEVENT
UID:1982923:Event:353776
DTSTAMP:20260422T112543Z
SUMMARY:Nassia and the Bluesmakers live @ Lazy club
DESCRIPTION:Πέμπτη 21 ΝοεμβρίουNassia and the Bluesmake
 rsNεοσύστατο σχήμα με μοναδικό σκοπό να
  ταξιδέψει τον ακροατή, στον μαγικό κό
 μο των blues παλαιότερων δεκαετιών...Νάσ
 ια Γκόφα / vocΧρήστος Ανδριανός / drumsΦώτ
 ς Δασκαλάκης / bassΧρυσόπουλος Γιώργος /
  gtrΘρυλικοί καλλιτέχνες του είδους όπω
 ς οι Dinah Washington, Big mama Thornton, Jimmy Reed, T-bone Walker
  αναβιώνουν μέσα από το setlist της μπάντα
 ς!doors: 21.00damage: +2€ στο 1ο ποτόcontact: 210/68.95.535
  info@lazy.gr | www.lazy.gr Lazy clubΛεωφ. Πεντέλης 1, Β
 ιλήσσια 152 35Αττική Οδός - Exit 12 | Προαστι
 ακός \"Πεντέλης\"έναντι Αθλητικού Κέντ
 ου \"Νίκος Πέρκιζας\"google map: http://bit.ly/2KN7oyt
 \n\nFor more information visit https://blues.gr/events/nassia-and-the-
 bluesmakers-live-lazy-club
DTSTART;TZID=Europe/Athens:20191121T220000
DTEND;TZID=Europe/Athens:20191122T010000
CATEGORIES:gig
LOCATION:Lazy club
WEBSITE:http://bit.ly/2KN7oyt
URL:http://bit.ly/2KN7oyt
CONTACT:210/68.95.535
ORGANIZER;CN="Giorgos Chrisopoulos":https://blues.gr/profile/GiorgosXr
ATTACH;FMTTYPE="image/jpeg":https://storage.ning.com/topology/rest/1.0
 /file/get/3707146699?profile=original
ATTENDEE;ROLE=REQ-PARTICIPANT;PARTSTAT=ACCEPTED;RSVP=TRUE;CN="Giorgos 
 Chrisopoulos":https://blues.gr/profile/GiorgosXr
END:VEVENT
END:VCALENDAR
