BEGIN:VCALENDAR
PRODID:NingEventWidget-v1
VERSION:2.0
METHOD:PUBLISH
BEGIN:VTIMEZONE
TZID:Europe/Athens
X-LIC-LOCATION:Europe/Athens
BEGIN:DAYLIGHT
TZOFFSETFROM:+0200
TZOFFSETTO:+0300
TZNAME:EEST
DTSTART:19700329T030000
RRULE:FREQ=YEARLY;BYMONTH=3;BYDAY=-1SU
END:DAYLIGHT
BEGIN:STANDARD
TZOFFSETFROM:+0300
TZOFFSETTO:+0200
TZNAME:EET
DTSTART:19701025T040000
RRULE:FREQ=YEARLY;BYMONTH=10;BYDAY=-1SU
END:STANDARD
END:VTIMEZONE
BEGIN:VEVENT
UID:1982923:Event:85610
DTSTAMP:20260421T131917Z
SUMMARY:Nasty Habits
DESCRIPTION:Nasty Habits (πρώην Tube A Bassa)\nΜανόλης Α
 ανασάκης        : Κιθάρα - Φωνή\nΝώντας 
 Βορλώκας             : Φωνή - Φυσαρμόνικ
 \nΓκόντας Κώστας                : Κιθάρα\
 nΔημήτρης Διαμαντόπουλος : Μπάσο\nΝίκο
 ς Γρέτος                     : Τύμπανα\n\n\nL
 ive @rouf\n\nFor more information visit https://blues.gr/events/nasty-
 habits
DTSTART;TZID=Europe/Athens:20110107T223000
DTEND;TZID=Europe/Athens:20110108T020000
CATEGORIES:gig
LOCATION:Ρούφ
WEBSITE:
URL:
CONTACT:210-3837191
ORGANIZER;CN="Νίκος Γρέτος":https://blues.gr/profile/Nhikos
 Grhetos
ATTACH;FMTTYPE="image/jpeg":http://storage.ning.com/topology/rest/1.0/
 file/get/2252946605?profile=original
ATTENDEE;ROLE=REQ-PARTICIPANT;PARTSTAT=ACCEPTED;RSVP=TRUE;CN="Νίκο
 ς Γρέτος":https://blues.gr/profile/NhikosGrhetos
ATTENDEE;ROLE=REQ-PARTICIPANT;PARTSTAT=TENTATIVE;RSVP=TRUE;CN="Geo D":
 https://blues.gr/profile/GeorgeDimakopoulos
END:VEVENT
END:VCALENDAR
