BEGIN:VCALENDAR
PRODID:NingEventWidget-v1
VERSION:2.0
METHOD:PUBLISH
BEGIN:VTIMEZONE
TZID:Europe/Athens
X-LIC-LOCATION:Europe/Athens
BEGIN:DAYLIGHT
TZOFFSETFROM:+0200
TZOFFSETTO:+0300
TZNAME:EEST
DTSTART:19700329T030000
RRULE:FREQ=YEARLY;BYMONTH=3;BYDAY=-1SU
END:DAYLIGHT
BEGIN:STANDARD
TZOFFSETFROM:+0300
TZOFFSETTO:+0200
TZNAME:EET
DTSTART:19701025T040000
RRULE:FREQ=YEARLY;BYMONTH=10;BYDAY=-1SU
END:STANDARD
END:VTIMEZONE
BEGIN:VEVENT
UID:1982923:Event:270082
DTSTAMP:20260423T162558Z
SUMMARY:NELLIE TIGER TRAVIS & ΤΗΕ BLUES CARGO
DESCRIPTION:H «Tίγρης» του blues, η σπουδαία τρα
 γουδίστρια Nellie Tiger Travis που μεσουρανεί 
 την σκηνή του Σικάγο, ξανάρχεται μετά 
 από χρόνια στην Αθήνα. Συναντά στο Half No
 te την καλύτερη blues μπάντα της Αθήνας κα
 ι παλαιούς συνεργάτες της, τους μοναδι
 κούς Blues Cargo που συμπληρώνουν 31 χρόνια 
 αμπρής πορείας στη μουσική.\r\nΑπό Παρα
 σκευή 7 έως Δευτέρα 10 Δεκεμβρίου\r\n\n\nFor 
 more information visit https://blues.gr/events/nellie-tiger-travis-blu
 es-cargo
DTSTART;TZID=Europe/Athens:20181207T180000
DTEND;TZID=Europe/Athens:20181210T190000
CATEGORIES:blues
LOCATION:Half Note Jazz Club
WEBSITE:
URL:
CONTACT:210 9213310
ORGANIZER:Half Note Jazz Club
ATTACH;FMTTYPE="image/jpeg":http://storage.ning.com/topology/rest/1.0/
 file/get/2253059891?profile=original
ATTENDEE;ROLE=REQ-PARTICIPANT;PARTSTAT=ACCEPTED;RSVP=TRUE;CN="Music Ne
 twork by Michael Limnios":https://blues.gr/profile/MichalisLimnios
END:VEVENT
END:VCALENDAR
