BEGIN:VCALENDAR
PRODID:NingEventWidget-v1
VERSION:2.0
METHOD:PUBLISH
BEGIN:VTIMEZONE
TZID:Europe/Athens
X-LIC-LOCATION:Europe/Athens
BEGIN:DAYLIGHT
TZOFFSETFROM:+0200
TZOFFSETTO:+0300
TZNAME:EEST
DTSTART:19700329T030000
RRULE:FREQ=YEARLY;BYMONTH=3;BYDAY=-1SU
END:DAYLIGHT
BEGIN:STANDARD
TZOFFSETFROM:+0300
TZOFFSETTO:+0200
TZNAME:EET
DTSTART:19701025T040000
RRULE:FREQ=YEARLY;BYMONTH=10;BYDAY=-1SU
END:STANDARD
END:VTIMEZONE
BEGIN:VEVENT
UID:1982923:Event:55921
DTSTAMP:20260420T174831Z
SUMMARY:Nick and the Backbone at Playcrossroads
DESCRIPTION:GREEK\nΓια τούς φίλους της μπάντας 
 που μας έχουν στηρίξει στον διαγωνισμ
  play crossroads με την ψήφο τους,ένα μεγάλο ε
 υχαριστώ,μια και μας κρατάτε στις top 60 
 πάντες και να σας πούμε ότι μετά από π
 οσεκτική ανάλυση των όρων τού διαγωνι
 σμού ,θα σας χρειαστούμε μέχρι το τέλο
  ,στις 12 /06 μια και ο στόχος είναι να πα
 αμείνουμε στις top 500 μπάντες,με καθημε
 ινή ψήφο.\nΣάς ευχαριστούμε εκ των προ
 έρων.\nENGLISH\nfor those who have voted for us,we would like to 
 say that we thank you very much and we still need your support.after c
 arefully reading the terms of the competition the goal is to remain am
 ong the top 500 bands of the contest,so we still need you to vote ever
 y day until 12/06 when the contest ends.thanks in advance.\nhttp://www
 .playcrossroads.com/nickdounoussis\nPlay Crossroads\n\nFor more inform
 ation visit https://blues.gr/events/nick-and-the-backbone-at-1
DTSTART;TZID=Europe/Athens:20100510T180000
DTEND;TZID=Europe/Athens:20100612T190000
CATEGORIES:contest
LOCATION:Chicago
WEBSITE:http://www.playcrossroads.com/nickdounoussis
URL:http://www.playcrossroads.com/nickdounoussis
CONTACT:
ORGANIZER;CN="Nick Dounoussis":https://blues.gr/profile/NickDounoussis
ATTACH;FMTTYPE="image/jpeg":http://storage.ning.com/topology/rest/1.0/
 file/get/2252940784?profile=original
ATTENDEE;ROLE=REQ-PARTICIPANT;PARTSTAT=ACCEPTED;RSVP=TRUE;CN="Charis P
 itsikas":https://blues.gr/profile/CharisPitsikas
ATTENDEE;ROLE=REQ-PARTICIPANT;PARTSTAT=ACCEPTED;RSVP=TRUE;CN="Nik Arva
 nitis":https://blues.gr/profile/NikosArvanitis
ATTENDEE;ROLE=REQ-PARTICIPANT;PARTSTAT=ACCEPTED;RSVP=TRUE;CN="Nick Dou
 noussis":https://blues.gr/profile/NickDounoussis
END:VEVENT
END:VCALENDAR
