BEGIN:VCALENDAR
PRODID:NingEventWidget-v1
VERSION:2.0
METHOD:PUBLISH
BEGIN:VTIMEZONE
TZID:Europe/Athens
X-LIC-LOCATION:Europe/Athens
BEGIN:DAYLIGHT
TZOFFSETFROM:+0200
TZOFFSETTO:+0300
TZNAME:EEST
DTSTART:19700329T030000
RRULE:FREQ=YEARLY;BYMONTH=3;BYDAY=-1SU
END:DAYLIGHT
BEGIN:STANDARD
TZOFFSETFROM:+0300
TZOFFSETTO:+0200
TZNAME:EET
DTSTART:19701025T040000
RRULE:FREQ=YEARLY;BYMONTH=10;BYDAY=-1SU
END:STANDARD
END:VTIMEZONE
BEGIN:VEVENT
UID:1982923:Event:74146
DTSTAMP:20260424T192940Z
SUMMARY:NICK AND THE BACKBONE AT VINILION  22-23/10/2010
DESCRIPTION:NICK DOUNOUSIS & THE BACKBONE WITH SPECIAL GUESTS\nΣτι
  24 του Σεπτέμβρη 2010, ο Νίκος Ντουνούση
  και οι Backbone εμφανίστηκαν στο VINILION CAFE C
 LUB. Όσοι τυχεροί παρευρέθησαν, είχαν τη
 ν ευκαιρία να ακούσουν από κοντά το μά
 ο του μπλουζ και της ηλεκτρικής κιθάρ
 ς. Στις 25 Σεπτέμβρη, ο Νίκος Ντουνούση
  έπαιξε μπροστά σε ένα ενθουσιώδες κο
 νό στο μπλουζ φεστιβάλ στο Αιγάλεω αλ
 ά τον σταμάτησαν οι υπεύθυνοι του φεσ
 ιβάλ γνωρίζοντας πως κινδύνευε η ζωή 
 ου μιας και ο Νίκος συνέχιζε να παίζει
  αψηφώντας τη βροχή που έπεφτε πάνω το
 .\n\nΕπιθυμώντας να ξεπληρώσει το χρέος
  τιμής απέναντι στους φίλους που δεν μ
 όρεσαν να τον απολαύσουν, ο Νίκος Ντου
 νούσης επιστρέφει στην Αθήνα στις 22 κα
 ι 23 του Οκτώβρη στο γνώριμο στέκι του BL
 UES! ROCK! JAZZ! της Δυτικής Αθήνας, το VINILION CAF
 E CLUB.\n\nΟ Νίκος θα παίξει χωρίς support σχήμ
 ατα και για πολλές ώρες θέλοντας το κο
 νό να γνωρίσει το τεράστιο ρεπερτόριό
  του.\n\nΣτις δύο αυτές μαγικές βραδιές, 
 ο Νίκος υπόσχεται πολλές εκπλήξεις μι
 ς και έχει ήδη προσκαλέσει πολλούς πα
 ιούς καλούς του φίλους και καταξιωμέν
 ους μουσικούς της μπλουζ-ροκ σκηνής να
  τζαμάρουν μαζί του στο τελευταίο του 
 ετ και τις 2 ημέρες.\n\nΕπειδή οι θέσεις 
 είναι περιορισμένες, το VINILION CAFE CLUB παρ
 καλεί θερμά για την έγκαιρη κράτηση θ
 σεων.\n210 2692640\n\nFor more information visit https://blues.gr
 /events/nick-and-the-backbone-at-3
DTSTART;TZID=Europe/Athens:20101022T220000
DTEND;TZID=Europe/Athens:20101024T020000
CATEGORIES:live
LOCATION:VINILION CAFE CLUB
WEBSITE:http://www.vinilion.gr/
URL:http://www.vinilion.gr/
CONTACT:2102692640
ORGANIZER:VINILION CAFE CLUB
ATTACH;FMTTYPE="image/jpeg":http://storage.ning.com/topology/rest/1.0/
 file/get/2252944220?profile=original
ATTENDEE;ROLE=REQ-PARTICIPANT;PARTSTAT=ACCEPTED;RSVP=TRUE;CN="Blues Sc
 holar":https://blues.gr/profile/BluesScholar
ATTENDEE;ROLE=REQ-PARTICIPANT;PARTSTAT=ACCEPTED;RSVP=TRUE;CN="Giannis 
 Pachidis":https://blues.gr/profile/ioannis
ATTENDEE;ROLE=REQ-PARTICIPANT;PARTSTAT=ACCEPTED;RSVP=TRUE;CN="DIMITRIS
  EPIKOURIS":https://blues.gr/profile/DIMITRISEPIKOURIS
ATTENDEE;ROLE=REQ-PARTICIPANT;PARTSTAT=ACCEPTED;RSVP=TRUE;CN="Tsiamtsi
 kas Nikolaos":https://blues.gr/profile/TsiamtsikasNikolaos
ATTENDEE;ROLE=REQ-PARTICIPANT;PARTSTAT=ACCEPTED;RSVP=TRUE;CN="Nick Dou
 noussis":https://blues.gr/profile/NickDounoussis
END:VEVENT
END:VCALENDAR
