BEGIN:VCALENDAR
PRODID:NingEventWidget-v1
VERSION:2.0
METHOD:PUBLISH
BEGIN:VTIMEZONE
TZID:Europe/Athens
X-LIC-LOCATION:Europe/Athens
BEGIN:DAYLIGHT
TZOFFSETFROM:+0200
TZOFFSETTO:+0300
TZNAME:EEST
DTSTART:19700329T030000
RRULE:FREQ=YEARLY;BYMONTH=3;BYDAY=-1SU
END:DAYLIGHT
BEGIN:STANDARD
TZOFFSETFROM:+0300
TZOFFSETTO:+0200
TZNAME:EET
DTSTART:19701025T040000
RRULE:FREQ=YEARLY;BYMONTH=10;BYDAY=-1SU
END:STANDARD
END:VTIMEZONE
BEGIN:VEVENT
UID:1982923:Event:55149
DTSTAMP:20260420T141514Z
SUMMARY:NICK AND THE BACKBONE AT PLAYCROSSROADS
DESCRIPTION:WE NEED YOUR VOTE.\nΟ ΝΙΚΟΣ ΝΤΟΥΝΟΥΣΗΣ Κ
 Ι ΟΙ BACKBONE ΣΥΜΜΕΤΕΧΟΥΝ ΣΤΟΝ ΔΙΕΘΝΗ ΔΙΑ
 ΩΝΙΣΜΟ PLAYCROSSROADS ΑΝΑΜΕΣΑ ΣΕ 950 ΜΠΑΝΤΕΣ Α
 ΠΟ ΟΛΟ ΤΟΝ ΚΟΣΜΟ.ΜΙΑ ΜΟΝΟ ΜΠΑΝΤΑ ΑΠΟ ΑΥ
 ΤΕΣ ΘΑ ΚΡΙΘΕΙ ΓΙΑ ΤΟ ΕΡΓΟ ΤΗΣ ΑΠΟ ΕΠΙΤΡ
 ΟΠΗ ΠΟΥ ΘΑ ΤΟΥΣ ΧΑΡΙΣΕΙ ΜΙΑ ΘΕΣΗ ΣΤΟ ΠΑ
 ΛΚΟ ΤΟΥ CROSSROADS FESTIVAL TOY ERIC CLAPTON ΣΤΙΣ 26 ΙΟΥ
 ΙΟΥ ΣΤΟ CHICAGO,ΑΝΑΜΕΣΑ ΣΤΑ ΜΕΓΑΛΥΤΕΡΑ ΟΝ
 ΟΜΑΤΑ ΤΟΥ ΕΙΔΟΥΣ.\nΟ ΔΙΑΓΩΝΙΣΜΟΣ,ΓΙΑ ΤΟ
  ΠΡΩΤΟ ΣΚΕΛΟΣ, ΒΑΣΙΖΕΤΑΙ ΣΤΙΣ ΨΗΦΟΥΣ Π
 Υ ΘΑ ΣΥΓΚΕΝΤΡΩΣΟΥΝ ΟΙ ΜΠΑΝΤΕΣ ΑΠΟ ΤΟΥ
  FANS ΤΟΥΣ.\nΟΠΟΙΟΣΔΗΠΟΤΕ ΜΠΟΡΕΙ ΝΑ ΓΡΑΦ
 ΕΙ ΩΣ FAN ,ΣΤΟ SITE ΤΟΥ ΔΙΑΓΩΝΙΣΜΟΥ ΚΑΙ ΝΑ 
 ΔΙΝΕΙ ΜΙΑ ΨΗΦΟ ΑΝΑ 24 ΩΡΕΣ ΣΤΗΝ ΑΓΑΠΗΜΕ
 Η ΤΟΥ ΜΠΑΝΤΑ ,ΜΕΧΡΙ ΤΙΣ 12 / 06 ΠΟΥ ΛΗΓΕΙ 
  ΔΙΑΓΩΝΙΣΜΟΣ ΚΑΙ ΟΙ 500 ΚΟΡΥΦΑΙΕΣ ΜΠΑΝΤ
 ΕΣ ΠΕΡΝΑΝΕ ΣΤΟ 2ο ΣΤΑΔΙΟ ΤΗΣ ΕΠΙΤΡΟΠΗΣ.
 \nΓΙΑ ΠΡΩΤΗ ΦΟΡΑ ΣΤΗΝ ΣΤΑΔΙΟΔΡΟΜΙΑ ΜΑΣ 
 ΧΡΕΙΑΖΟΜΑΣΤΕ ΟΛΟΥΣ ΤΟΥΣ ΦΙΛΟΥΣ ΤΩΝ BACKB
 ONE ,ΩΣΤΕ ΝΑ ΚΑΤΑΦΕΡΟΥΜΕ ΝΑ ΦΤΑΣΟΥΜΕ ΣΤΟ
  2ο ΣΤΑΔΙΟ.\nΤΟ LINK ΓΙΑ ΤΗΝ ΣΕΛΙΔΑ ΤΟΥ ΓΚΡ
 ΟΥΠ ΕΙΝΑΙ:\nhttp://www.playcrossroads.com/nickdounoussis\nΣΤ
 ΗΝ ΔΕΞΙΑ ΠΛΕΥΡΑ ΤΗΣ ΣΕΛΙΔΑΣ ΥΠΑΡΧΕΙ ΤΟ
  TAB : REGISTER,ΟΠΟΥ ΜΠΟΡΕΙ ΚΑΝΕΙΣ ΝΑ ΓΡΑΦΤΕΙ
  ΣΤΟ SITE ΩΣ FAN.\nΕΥΧΑΡΙΣΤΟΥΜΕ ΕΚ ΤΩΝ ΠΡΟΤ
 ΡΩΝ ΟΛΟΥΣ ΟΣΟΙ ΘΑ ΜΑΣ ΣΤΗΡΙΞΟΥΝ ΣΕ ΑΥΤ
 Η ΤΗΝ ΣΥΜΜΕΤΟΧΗ.ΚΑΛΗ ΜΑΣ ΤΥΧΗ.\n\nFor more inf
 ormation visit https://blues.gr/events/nick-and-the-backbone-at
DTSTART;TZID=Europe/Athens:20100504T060000
DTEND;TZID=Europe/Athens:20100612T120000
CATEGORIES:contest
LOCATION:CHICAGO ,ILLINOIS
WEBSITE:http://www.playcrossroads.com/
URL:http://www.playcrossroads.com/
CONTACT:
ORGANIZER;CN="Nick Dounoussis":https://blues.gr/profile/NickDounoussis
ATTACH;FMTTYPE="image/jpeg":http://storage.ning.com/topology/rest/1.0/
 file/get/2252940784?profile=original
ATTENDEE;ROLE=REQ-PARTICIPANT;PARTSTAT=ACCEPTED;RSVP=TRUE;CN=Panos:htt
 ps://blues.gr/profile/Panos
ATTENDEE;ROLE=REQ-PARTICIPANT;PARTSTAT=ACCEPTED;RSVP=TRUE;CN="George \
 "Whiskey\" Stefanakis":https://blues.gr/profile/GeorgeStefanakis
ATTENDEE;ROLE=REQ-PARTICIPANT;PARTSTAT=ACCEPTED;RSVP=TRUE;CN=Thanasis:
 https://blues.gr/profile/agk
ATTENDEE;ROLE=REQ-PARTICIPANT;PARTSTAT=ACCEPTED;RSVP=TRUE;CN="Nick Dou
 noussis":https://blues.gr/profile/NickDounoussis
ATTENDEE;ROLE=REQ-PARTICIPANT;PARTSTAT=TENTATIVE;RSVP=TRUE;CN="Antonis
  Tsekos":https://blues.gr/profile/AntonisTsekos
END:VEVENT
END:VCALENDAR
