BEGIN:VCALENDAR
PRODID:NingEventWidget-v1
VERSION:2.0
METHOD:PUBLISH
BEGIN:VTIMEZONE
TZID:Europe/Athens
X-LIC-LOCATION:Europe/Athens
BEGIN:DAYLIGHT
TZOFFSETFROM:+0200
TZOFFSETTO:+0300
TZNAME:EEST
DTSTART:19700329T030000
RRULE:FREQ=YEARLY;BYMONTH=3;BYDAY=-1SU
END:DAYLIGHT
BEGIN:STANDARD
TZOFFSETFROM:+0300
TZOFFSETTO:+0200
TZNAME:EET
DTSTART:19701025T040000
RRULE:FREQ=YEARLY;BYMONTH=10;BYDAY=-1SU
END:STANDARD
END:VTIMEZONE
BEGIN:VEVENT
UID:1982923:Event:80569
DTSTAMP:20260421T150451Z
SUMMARY:Nick and the Backbone και Blue Flames live στο Κιλκ
 ς
DESCRIPTION:Οι Nick and the Backbone και Blue Flames( www.bluefla
 mes.gr) live στο Κιλκίς σε μία Blues Rock βραδιά 
 το Club Casa Κιλκίς\n\nΕΙΣΟΔΟΣ ΕΛΕΥΘΕΡΗ. Ώρ
  έναρξης: 20:00\n\nΜπύρα: 4€\n...Ποτό: 6€\n\nFor 
 more information visit https://blues.gr/events/nick-and-the-backbone-k
 ai-blue
DTSTART;TZID=Europe/Athens:20101205T000000
DTEND;TZID=Europe/Athens:20101205T235900
CATEGORIES:live
LOCATION:Club CASA, KILKIS
WEBSITE:http://www.blueflames.gr
URL:http://www.blueflames.gr
CONTACT:6974373511
ORGANIZER;CN="Johnny B.":https://blues.gr/profile/JohnnyB
ATTACH;FMTTYPE="image/jpeg":http://storage.ning.com/topology/rest/1.0/
 file/get/2252945823?profile=original
ATTENDEE;ROLE=REQ-PARTICIPANT;PARTSTAT=ACCEPTED;RSVP=TRUE;CN="vassilis
  kariotis":https://blues.gr/profile/vassiliskariotis
ATTENDEE;ROLE=REQ-PARTICIPANT;PARTSTAT=ACCEPTED;RSVP=TRUE;CN="Johnny B
 .":https://blues.gr/profile/JohnnyB
END:VEVENT
END:VCALENDAR
