BEGIN:VCALENDAR
PRODID:NingEventWidget-v1
VERSION:2.0
METHOD:PUBLISH
BEGIN:VTIMEZONE
TZID:Europe/Athens
X-LIC-LOCATION:Europe/Athens
BEGIN:DAYLIGHT
TZOFFSETFROM:+0200
TZOFFSETTO:+0300
TZNAME:EEST
DTSTART:19700329T030000
RRULE:FREQ=YEARLY;BYMONTH=3;BYDAY=-1SU
END:DAYLIGHT
BEGIN:STANDARD
TZOFFSETFROM:+0300
TZOFFSETTO:+0200
TZNAME:EET
DTSTART:19701025T040000
RRULE:FREQ=YEARLY;BYMONTH=10;BYDAY=-1SU
END:STANDARD
END:VTIMEZONE
BEGIN:VEVENT
UID:1982923:Event:83890
DTSTAMP:20260421T201750Z
SUMMARY:NICK AND THE BACKBONE LIVE - ΣΤΗΝ ΗΠΕΙΡΟ
DESCRIPTION:O ΝΙΚΟΣ ΝΤΟΥΝΟΥΣΗΣ ΚΑΙ ΟΙ BACKBONE LIV
 E ΣΤΗΝ ΗΠΕΙΡΟ.\n16/12 ISLAND CAFE - ΠΑΡΑΛΙΑ ΠΑΡΓ
 Σ\n17/12 METROPOLE CAFE - ΠΑΡΑΛΙΑ ΗΓΟΥΜΕΝΙΤΣΑΣ\n1
 8/12 ΘΥΜΩΜΕΝΟ ΠΟΡΤΡΑΙΤΟ - ΓΙΑΝΕΝΑ\nhttp://www.
 myspace.com/442275326/shows\n\nFor more information visit https://blue
 s.gr/events/nick-and-the-backbone-live-1
DTSTART;TZID=Europe/Athens:20101216T220000
DTEND;TZID=Europe/Athens:20101219T020000
CATEGORIES:live
LOCATION:IPIROS
WEBSITE:
URL:
CONTACT:
ORGANIZER;CN="Nick Dounoussis":https://blues.gr/profile/NickDounoussis
ATTACH;FMTTYPE="image/jpeg":http://storage.ning.com/topology/rest/1.0/
 file/get/2252947649?profile=original
ATTENDEE;ROLE=REQ-PARTICIPANT;PARTSTAT=ACCEPTED;RSVP=TRUE;CN="Nick Dou
 noussis":https://blues.gr/profile/NickDounoussis
END:VEVENT
END:VCALENDAR
