BEGIN:VCALENDAR
PRODID:NingEventWidget-v1
VERSION:2.0
METHOD:PUBLISH
BEGIN:VTIMEZONE
TZID:Europe/Athens
X-LIC-LOCATION:Europe/Athens
BEGIN:DAYLIGHT
TZOFFSETFROM:+0200
TZOFFSETTO:+0300
TZNAME:EEST
DTSTART:19700329T030000
RRULE:FREQ=YEARLY;BYMONTH=3;BYDAY=-1SU
END:DAYLIGHT
BEGIN:STANDARD
TZOFFSETFROM:+0300
TZOFFSETTO:+0200
TZNAME:EET
DTSTART:19701025T040000
RRULE:FREQ=YEARLY;BYMONTH=10;BYDAY=-1SU
END:STANDARD
END:VTIMEZONE
BEGIN:VEVENT
UID:1982923:Event:19853
DTSTAMP:20260420T012407Z
SUMMARY:NICK AND THE BACKBONE LIVE EVERY SUNDAY
DESCRIPTION:LIVE AT DON KIHOTIS MUSIC BAR\nΚΑΘΕ ΚΥΡΙΑΚΗ Σ
 ΟΝ ΔΟΝ ΚΙΧΩΤΗ\n\nFor more information visit https://blues.
 gr/events/nick-and-the-backbone-live
DTSTART;TZID=Europe/Athens:20090315T213000
DTEND;TZID=Europe/Athens:20090316T030000
CATEGORIES:concert
LOCATION:DON KIHOTIS MUSIC BAR
WEBSITE:
URL:
CONTACT:
ORGANIZER;CN="Nick Dounoussis":https://blues.gr/profile/NickDounoussis
ATTACH;FMTTYPE="image/jpeg":http://storage.ning.com/topology/rest/1.0/
 file/get/2252936692?profile=original
ATTENDEE;ROLE=REQ-PARTICIPANT;PARTSTAT=ACCEPTED;RSVP=TRUE;CN="Yannis P
 avezas":https://blues.gr/profile/YannisPavezas
ATTENDEE;ROLE=REQ-PARTICIPANT;PARTSTAT=ACCEPTED;RSVP=TRUE;CN="Nick Dou
 noussis":https://blues.gr/profile/NickDounoussis
END:VEVENT
END:VCALENDAR
