BEGIN:VCALENDAR
PRODID:NingEventWidget-v1
VERSION:2.0
METHOD:PUBLISH
BEGIN:VTIMEZONE
TZID:Europe/Athens
X-LIC-LOCATION:Europe/Athens
BEGIN:DAYLIGHT
TZOFFSETFROM:+0200
TZOFFSETTO:+0300
TZNAME:EEST
DTSTART:19700329T030000
RRULE:FREQ=YEARLY;BYMONTH=3;BYDAY=-1SU
END:DAYLIGHT
BEGIN:STANDARD
TZOFFSETFROM:+0300
TZOFFSETTO:+0200
TZNAME:EET
DTSTART:19701025T040000
RRULE:FREQ=YEARLY;BYMONTH=10;BYDAY=-1SU
END:STANDARD
END:VTIMEZONE
BEGIN:VEVENT
UID:1982923:Event:193466
DTSTAMP:20260421T113925Z
SUMMARY:Nick Gravenites with Nick & The Backbone
DESCRIPTION:Ο θρύλος των μπλουζ του Chicago και 
 της ψυχεδέλειας των ’60s (Electric Flag, Quicksilve
 r Messenger Service, Janis Joplin, Otis Rush, John Cipollina, Big Brot
 her & Holding Co. κ.λ.π. ), ο συμπατριώτης μας κι
 θαρίστας Nick Gravenites μαζί με τους Backbone τ
 υ Νίκου Ντουνούση, «την ελληνική του μ
 πάντα».\nO Nick Gravenites ανήκει σ’ εκείνους 
 ους κιθαρίστες που ξεκίνησαν με folk κα
  blues βάσεις, για να μπολιάσουν τη μουσι
 κή τους με γενναίες δόσεις ψυχεδέλεια
 , ζώντας την πολιτιστική έκρηξη των ’6
 0s. Συνθέσεις του ηχογραφήθηκαν και ερμ
 ηνεύτηκαν από τεράστιες προσωπικότητ
 ς, καλλιτέχνες και συγκροτήματα του π
 γκόσμιου ροκ στερεώματος. \n\n\n\nFor more inf
 ormation visit https://blues.gr/events/nick-gravenites
DTSTART;TZID=Europe/Athens:20140124T220000
DTEND;TZID=Europe/Athens:20140127T233000
CATEGORIES:blues
LOCATION:HALF NOTE JAZZ CLUB
WEBSITE:
URL:
CONTACT:210 9213310
ORGANIZER:HALF NOTE JAZZ CLUB
ATTACH;FMTTYPE="image/jpeg":http://storage.ning.com/topology/rest/1.0/
 file/get/2253017754?profile=original
ATTENDEE;ROLE=REQ-PARTICIPANT;PARTSTAT=ACCEPTED;RSVP=TRUE;CN="Music Ne
 twork by Michael Limnios":https://blues.gr/profile/MichalisLimnios
ATTENDEE;ROLE=REQ-PARTICIPANT;PARTSTAT=ACCEPTED;RSVP=TRUE;CN="Dionisis
  Bilalis":https://blues.gr/profile/DionisisBilalis
END:VEVENT
END:VCALENDAR
