BEGIN:VCALENDAR
PRODID:NingEventWidget-v1
VERSION:2.0
METHOD:PUBLISH
BEGIN:VTIMEZONE
TZID:Europe/Athens
X-LIC-LOCATION:Europe/Athens
BEGIN:DAYLIGHT
TZOFFSETFROM:+0200
TZOFFSETTO:+0300
TZNAME:EEST
DTSTART:19700329T030000
RRULE:FREQ=YEARLY;BYMONTH=3;BYDAY=-1SU
END:DAYLIGHT
BEGIN:STANDARD
TZOFFSETFROM:+0300
TZOFFSETTO:+0200
TZNAME:EET
DTSTART:19701025T040000
RRULE:FREQ=YEARLY;BYMONTH=10;BYDAY=-1SU
END:STANDARD
END:VTIMEZONE
BEGIN:VEVENT
UID:1982923:Event:215406
DTSTAMP:20260424T113809Z
SUMMARY:NICK TSIAMTSIKAS BLUES BAND LIVE...@ Mikes Irish bar
DESCRIPTION:Nick Tsiamtsikas Blues Band live @ Mikes Irish Bar in 6 Si
 nopis str. Athens Tower , Ampelokipoi. Anight full of Chicago Blues fr
 om the best Blues band in town\n\nFor more information visit https://b
 lues.gr/events/nick-tsiamtsikas-blues-band-live-mikes-irish-bar
DTSTART;TZID=Europe/Athens:20141214T210000
DTEND;TZID=Europe/Athens:20141214T233000
CATEGORIES:live, blues, report, a, great, musical, for, the, history, 
 of, "blues..."
LOCATION:Mikes Irish bar , 6 Sinopis str., Athens Tower, Ampelokipoi
WEBSITE:
URL:
CONTACT:
ORGANIZER;CN="Tsiamtsikas Nikolaos":https://blues.gr/profile/Tsiamtsik
 asNikolaos
ATTACH;FMTTYPE="image/jpeg":http://storage.ning.com/topology/rest/1.0/
 file/get/2253032786?profile=original
ATTENDEE;ROLE=REQ-PARTICIPANT;PARTSTAT=ACCEPTED;RSVP=TRUE;CN="Tsiamtsi
 kas Nikolaos":https://blues.gr/profile/TsiamtsikasNikolaos
END:VEVENT
END:VCALENDAR
