BEGIN:VCALENDAR
PRODID:NingEventWidget-v1
VERSION:2.0
METHOD:PUBLISH
BEGIN:VTIMEZONE
TZID:Europe/Athens
X-LIC-LOCATION:Europe/Athens
BEGIN:DAYLIGHT
TZOFFSETFROM:+0200
TZOFFSETTO:+0300
TZNAME:EEST
DTSTART:19700329T030000
RRULE:FREQ=YEARLY;BYMONTH=3;BYDAY=-1SU
END:DAYLIGHT
BEGIN:STANDARD
TZOFFSETFROM:+0300
TZOFFSETTO:+0200
TZNAME:EET
DTSTART:19701025T040000
RRULE:FREQ=YEARLY;BYMONTH=10;BYDAY=-1SU
END:STANDARD
END:VTIMEZONE
BEGIN:VEVENT
UID:1982923:Event:59409
DTSTAMP:20260421T044257Z
SUMMARY:Nick tsiamtsikas & Blues Report live at Tinos island
DESCRIPTION:Μια καλοκαιρινή συναυλία στο πα
 νέμορφο Βολάξ της Τήνου, στο πλαίσιο τ
 ν\nθερινών πολιτιτστικών εκδηλώσεων τ
 ου Δήμου Εξωμβούργου, στις 24 Ιουλίου.\n
  Συναυλία θα γίνει στο αρχαίο θεατράκ
  του Βολάξ, του ξακουστού χωριού με το 
 σεληνιακό τοπίο και τις ολοστρόγγυλες
  μπάλες απο γρανιτόλιθο στα χωράφια.\nΜ
 ια μοναδική Ρύθμ εν Μπλούζ βραδυά, που 
 θα βάλουμε τα δυνατά μας να μείνει αξέ
 αστη σε όσους συμμετέχουν...\n\nFor more inform
 ation visit https://blues.gr/events/nick-tsiamtsikas-blues-report-10
DTSTART;TZID=Europe/Athens:20100724T000000
DTEND;TZID=Europe/Athens:20100725T235900
CATEGORIES:live, concert
LOCATION:Tinos island, Cyclads
WEBSITE:http://exombourgo.gr
URL:http://exombourgo.gr
CONTACT:
ORGANIZER;CN="Tsiamtsikas Nikolaos":https://blues.gr/profile/Tsiamtsik
 asNikolaos
ATTACH;FMTTYPE="image/jpeg":http://storage.ning.com/topology/rest/1.0/
 file/get/2252945410?profile=original
ATTENDEE;ROLE=REQ-PARTICIPANT;PARTSTAT=ACCEPTED;RSVP=TRUE;CN="Giannis 
 Pachidis":https://blues.gr/profile/ioannis
ATTENDEE;ROLE=REQ-PARTICIPANT;PARTSTAT=ACCEPTED;RSVP=TRUE;CN="Tsiamtsi
 kas Nikolaos":https://blues.gr/profile/TsiamtsikasNikolaos
END:VEVENT
END:VCALENDAR
