BEGIN:VCALENDAR
PRODID:NingEventWidget-v1
VERSION:2.0
METHOD:PUBLISH
BEGIN:VTIMEZONE
TZID:Europe/Athens
X-LIC-LOCATION:Europe/Athens
BEGIN:DAYLIGHT
TZOFFSETFROM:+0200
TZOFFSETTO:+0300
TZNAME:EEST
DTSTART:19700329T030000
RRULE:FREQ=YEARLY;BYMONTH=3;BYDAY=-1SU
END:DAYLIGHT
BEGIN:STANDARD
TZOFFSETFROM:+0300
TZOFFSETTO:+0200
TZNAME:EET
DTSTART:19701025T040000
RRULE:FREQ=YEARLY;BYMONTH=10;BYDAY=-1SU
END:STANDARD
END:VTIMEZONE
BEGIN:VEVENT
UID:1982923:Event:78649
DTSTAMP:20260421T235154Z
SUMMARY:Nick Tsiamtsikas & Blues Report live at Plaughman's Pub
DESCRIPTION:Chicago Rhythm n' Blues with alotta soul live - strong ele
 ctrick night.Row and tough like it has to be, music for believers....\
 n\nFor more information visit https://blues.gr/events/nick-tsiamtsikas
 -blues-report-34
DTSTART;TZID=Europe/Athens:20101127T110000
DTEND;TZID=Europe/Athens:20101128T140000
CATEGORIES:live, gig, party
LOCATION:Athens
WEBSITE:
URL:
CONTACT:
ORGANIZER;CN="Tsiamtsikas Nikolaos":https://blues.gr/profile/Tsiamtsik
 asNikolaos
ATTACH;FMTTYPE="image/jpeg":http://storage.ning.com/topology/rest/1.0/
 file/get/2073756004?profile=original
ATTENDEE;ROLE=REQ-PARTICIPANT;PARTSTAT=ACCEPTED;RSVP=TRUE;CN="Anastasi
 os Dimitriadis":https://blues.gr/profile/AnastasiosDimitriadis
ATTENDEE;ROLE=REQ-PARTICIPANT;PARTSTAT=ACCEPTED;RSVP=TRUE;CN="Nick Dou
 noussis":https://blues.gr/profile/NickDounoussis
ATTENDEE;ROLE=REQ-PARTICIPANT;PARTSTAT=ACCEPTED;RSVP=TRUE;CN="Tsiamtsi
 kas Nikolaos":https://blues.gr/profile/TsiamtsikasNikolaos
END:VEVENT
END:VCALENDAR
