BEGIN:VCALENDAR
PRODID:NingEventWidget-v1
VERSION:2.0
METHOD:PUBLISH
BEGIN:VTIMEZONE
TZID:Europe/Athens
X-LIC-LOCATION:Europe/Athens
BEGIN:DAYLIGHT
TZOFFSETFROM:+0200
TZOFFSETTO:+0300
TZNAME:EEST
DTSTART:19700329T030000
RRULE:FREQ=YEARLY;BYMONTH=3;BYDAY=-1SU
END:DAYLIGHT
BEGIN:STANDARD
TZOFFSETFROM:+0300
TZOFFSETTO:+0200
TZNAME:EET
DTSTART:19701025T040000
RRULE:FREQ=YEARLY;BYMONTH=10;BYDAY=-1SU
END:STANDARD
END:VTIMEZONE
BEGIN:VEVENT
UID:1982923:Event:83867
DTSTAMP:20260421T233059Z
SUMMARY:Nick Tsiamtsikas & Blues Report live at music scene \"ΣΙΝΕ
  στιγμές\"
DESCRIPTION:Nick Tsiamtsikas & Blues Report live at music scene \"ΣΙ
 ΝΕ στιγμές\" at Perama\n\nFor more information visit https://
 blues.gr/events/nick-tsiamtsikas-blues-report-436
DTSTART;TZID=Europe/Athens:20101218T220000
DTEND;TZID=Europe/Athens:20101219T020000
CATEGORIES:live, gig
LOCATION:Perama (ΠΕΡΑΜΑ)
WEBSITE:
URL:
CONTACT:212 - 1008437
ORGANIZER;CN="Tsiamtsikas Nikolaos":https://blues.gr/profile/Tsiamtsik
 asNikolaos
ATTACH;FMTTYPE="image/jpeg":http://storage.ning.com/topology/rest/1.0/
 file/get/2073755773?profile=original
ATTENDEE;ROLE=REQ-PARTICIPANT;PARTSTAT=ACCEPTED;RSVP=TRUE;CN="Tsiamtsi
 kas Nikolaos":https://blues.gr/profile/TsiamtsikasNikolaos
ATTENDEE;ROLE=REQ-PARTICIPANT;PARTSTAT=TENTATIVE;RSVP=TRUE;CN="Giannis
  Pachidis":https://blues.gr/profile/ioannis
END:VEVENT
END:VCALENDAR
