BEGIN:VCALENDAR
PRODID:NingEventWidget-v1
VERSION:2.0
METHOD:PUBLISH
BEGIN:VTIMEZONE
TZID:Europe/Athens
X-LIC-LOCATION:Europe/Athens
BEGIN:DAYLIGHT
TZOFFSETFROM:+0200
TZOFFSETTO:+0300
TZNAME:EEST
DTSTART:19700329T030000
RRULE:FREQ=YEARLY;BYMONTH=3;BYDAY=-1SU
END:DAYLIGHT
BEGIN:STANDARD
TZOFFSETFROM:+0300
TZOFFSETTO:+0200
TZNAME:EET
DTSTART:19701025T040000
RRULE:FREQ=YEARLY;BYMONTH=10;BYDAY=-1SU
END:STANDARD
END:VTIMEZONE
BEGIN:VEVENT
UID:1982923:Event:78653
DTSTAMP:20260422T001352Z
SUMMARY:Nick Tsiamtsikas & Blues Report live at OKIO bar
DESCRIPTION:Μια βραδιά αφιερωμένη απολειστ
 κά στους πολλούς φίλους του Bar ΟΚΙΟ. Αλ
 λά προσοχή : Η εκδήλωση αρχίζει στις 9:00
  το βράδυ, επειδή η επόμενη ημέρα είναι
  εργάσιμη, μην το ξεχνάμε έτσι;\n\nFor more in
 formation visit https://blues.gr/events/nick-tsiamtsikas-blues-report-
 44
DTSTART;TZID=Europe/Athens:20101128T000000
DTEND;TZID=Europe/Athens:20101128T235900
CATEGORIES:party, live, gig
LOCATION:Μαρίνα της Ζέας
WEBSITE:
URL:
CONTACT:
ORGANIZER;CN="Tsiamtsikas Nikolaos":https://blues.gr/profile/Tsiamtsik
 asNikolaos
ATTACH;FMTTYPE="image/jpeg":http://storage.ning.com/topology/rest/1.0/
 file/get/2252947132?profile=original
ATTENDEE;ROLE=REQ-PARTICIPANT;PARTSTAT=ACCEPTED;RSVP=TRUE;CN="Anastasi
 os Dimitriadis":https://blues.gr/profile/AnastasiosDimitriadis
ATTENDEE;ROLE=REQ-PARTICIPANT;PARTSTAT=ACCEPTED;RSVP=TRUE;CN="Giannis 
 Pachidis":https://blues.gr/profile/ioannis
ATTENDEE;ROLE=REQ-PARTICIPANT;PARTSTAT=ACCEPTED;RSVP=TRUE;CN="Tsiamtsi
 kas Nikolaos":https://blues.gr/profile/TsiamtsikasNikolaos
END:VEVENT
END:VCALENDAR
