BEGIN:VCALENDAR
PRODID:NingEventWidget-v1
VERSION:2.0
METHOD:PUBLISH
BEGIN:VTIMEZONE
TZID:Europe/Athens
X-LIC-LOCATION:Europe/Athens
BEGIN:DAYLIGHT
TZOFFSETFROM:+0200
TZOFFSETTO:+0300
TZNAME:EEST
DTSTART:19700329T030000
RRULE:FREQ=YEARLY;BYMONTH=3;BYDAY=-1SU
END:DAYLIGHT
BEGIN:STANDARD
TZOFFSETFROM:+0300
TZOFFSETTO:+0200
TZNAME:EET
DTSTART:19701025T040000
RRULE:FREQ=YEARLY;BYMONTH=10;BYDAY=-1SU
END:STANDARD
END:VTIMEZONE
BEGIN:VEVENT
UID:1982923:Event:74775
DTSTAMP:20260419T172754Z
SUMMARY:Nick Tsiamtsikas & Blues Report live at cafe VINILION
DESCRIPTION:Μια μοναδική μουσική βραδιά, με 
 ανανεωμένο πρόγραμμα και καινούργια α
 γαπημένα κομμάτια, στο τσακ πριν πάμε 
 την κάλπη, με την ελπίδα να χρησιμεύσο
 υμε για λογικές αποφάσεις και ξεκάθαρ
 ς συνειδήσεις. Βοηθάει η μουσική σ΄αυ
 ό : Δε λέει ψέματα και δεν εξαπατά...\n\nΕ
 ίσοδος 8 ευρώ, ποτό 6 ευρώ, μπύρα 4 ευρώ\n\
 nFor more information visit https://blues.gr/events/nick-tsiamtsikas-b
 lues-report-51
DTSTART;TZID=Europe/Athens:20101106T230000
DTEND;TZID=Europe/Athens:20101107T010000
CATEGORIES:live, concert
LOCATION:Ιλιον
WEBSITE:
URL:
CONTACT:210 2692640
ORGANIZER;CN="Tsiamtsikas Nikolaos":https://blues.gr/profile/Tsiamtsik
 asNikolaos
ATTACH;FMTTYPE="image/jpeg":http://storage.ning.com/topology/rest/1.0/
 file/get/2252944068?profile=original
ATTENDEE;ROLE=REQ-PARTICIPANT;PARTSTAT=ACCEPTED;RSVP=TRUE;CN="Anastasi
 os Dimitriadis":https://blues.gr/profile/AnastasiosDimitriadis
ATTENDEE;ROLE=REQ-PARTICIPANT;PARTSTAT=ACCEPTED;RSVP=TRUE;CN="Tsiamtsi
 kas Nikolaos":https://blues.gr/profile/TsiamtsikasNikolaos
END:VEVENT
END:VCALENDAR
