BEGIN:VCALENDAR
PRODID:NingEventWidget-v1
VERSION:2.0
METHOD:PUBLISH
BEGIN:VTIMEZONE
TZID:Europe/Athens
X-LIC-LOCATION:Europe/Athens
BEGIN:DAYLIGHT
TZOFFSETFROM:+0200
TZOFFSETTO:+0300
TZNAME:EEST
DTSTART:19700329T030000
RRULE:FREQ=YEARLY;BYMONTH=3;BYDAY=-1SU
END:DAYLIGHT
BEGIN:STANDARD
TZOFFSETFROM:+0300
TZOFFSETTO:+0200
TZNAME:EET
DTSTART:19701025T040000
RRULE:FREQ=YEARLY;BYMONTH=10;BYDAY=-1SU
END:STANDARD
END:VTIMEZONE
BEGIN:VEVENT
UID:1982923:Event:54218
DTSTAMP:20260420T161013Z
SUMMARY:Nick Tsiamtsikas & Blues Report live on Primitive bar
DESCRIPTION:Ο Νίκος Τσιαμτσίκας και οι Blues Rep
 ort ζωντανά στο μπάρ Primitive στου Ψυρρή, σε
  μια μοναδική βραδιά με δυνατό ηλεκτρι
 κό Σικάγο ρύθμ εν Μπλούζ.\nΠασίγνωστα κ
 ομμάτια, δυνατές ερμηνείες και χορευτ
 κή διάθεση, απο μια ανερχόμενη μπάντα 
 που αποτελείται απο τους : Νίκο \"jam\" Τσ
 αμτσίκα φωνητικά κιθάρα, Παύλο \"J. Warbid\
 " Ξένο ηλ. Κιθάρα, Γιάννη \"Handsome\" Σαμαρά 
 μπάσο, Τάσο \"the beast\" Δημητριάδη ντράμς, 
 \"mr man\" Δημήτρη Μαθέα κιθάρα, και \"mr sax\"Β
 αγγέλη Παναγιωταράκο σαξόφωνο.\n\nFor more 
 information visit https://blues.gr/events/nick-tsiamtsikas-blues-repor
 t-8
DTSTART;TZID=Europe/Athens:20100515T233000
DTEND;TZID=Europe/Athens:20100516T140000
CATEGORIES:live
LOCATION:Ψυρρή - Αθήνα
WEBSITE:http://www.primitive-bar.gr
URL:http://www.primitive-bar.gr
CONTACT:210 3239722
ORGANIZER;CN="Tsiamtsikas Nikolaos":https://blues.gr/profile/Tsiamtsik
 asNikolaos
ATTACH;FMTTYPE="image/jpeg":http://storage.ning.com/topology/rest/1.0/
 file/get/2252940346?profile=original
ATTENDEE;ROLE=REQ-PARTICIPANT;PARTSTAT=ACCEPTED;RSVP=TRUE;CN="Anastasi
 os Dimitriadis":https://blues.gr/profile/AnastasiosDimitriadis
ATTENDEE;ROLE=REQ-PARTICIPANT;PARTSTAT=ACCEPTED;RSVP=TRUE;CN="Paul Xen
 os ( J. Warbird)":https://blues.gr/profile/PaulXenos
ATTENDEE;ROLE=REQ-PARTICIPANT;PARTSTAT=ACCEPTED;RSVP=TRUE;CN="Tsiamtsi
 kas Nikolaos":https://blues.gr/profile/TsiamtsikasNikolaos
END:VEVENT
END:VCALENDAR
