BEGIN:VCALENDAR
PRODID:NingEventWidget-v1
VERSION:2.0
METHOD:PUBLISH
BEGIN:VTIMEZONE
TZID:Europe/Athens
X-LIC-LOCATION:Europe/Athens
BEGIN:DAYLIGHT
TZOFFSETFROM:+0200
TZOFFSETTO:+0300
TZNAME:EEST
DTSTART:19700329T030000
RRULE:FREQ=YEARLY;BYMONTH=3;BYDAY=-1SU
END:DAYLIGHT
BEGIN:STANDARD
TZOFFSETFROM:+0300
TZOFFSETTO:+0200
TZNAME:EET
DTSTART:19701025T040000
RRULE:FREQ=YEARLY;BYMONTH=10;BYDAY=-1SU
END:STANDARD
END:VTIMEZONE
BEGIN:VEVENT
UID:1982923:Event:51953
DTSTAMP:20260421T185919Z
SUMMARY:Nick Tsiamtsikas & Blues Report live at After Dark
DESCRIPTION:Chicago Rhythm n' Blues, and famous funky soul music tunes
 , performing with joy from un upcoming seven membered blues band, the 
 Nick Tsiamtsikas & Blues Report Blues band, at the After Dark club at 
 Exarcheia on Ipokratous & didotoy 32 str.\n\nFor more information visi
 t https://blues.gr/events/nick-tsiamtsikas-blues-report-9
DTSTART;TZID=Europe/Athens:20100528T000000
DTEND;TZID=Europe/Athens:20100528T235900
CATEGORIES:live
LOCATION:Exarcheia Athens
WEBSITE:
URL:
CONTACT:
ORGANIZER;CN="Tsiamtsikas Nikolaos":https://blues.gr/profile/Tsiamtsik
 asNikolaos
ATTACH;FMTTYPE="image/jpeg":http://storage.ning.com/topology/rest/1.0/
 file/get/2112290990?profile=original
ATTENDEE;ROLE=REQ-PARTICIPANT;PARTSTAT=ACCEPTED;RSVP=TRUE;CN=Lia:https
 ://blues.gr/profile/Lia
ATTENDEE;ROLE=REQ-PARTICIPANT;PARTSTAT=ACCEPTED;RSVP=TRUE;CN="Paul Xen
 os ( J. Warbird)":https://blues.gr/profile/PaulXenos
ATTENDEE;ROLE=REQ-PARTICIPANT;PARTSTAT=ACCEPTED;RSVP=TRUE;CN="Giannis 
 Pachidis":https://blues.gr/profile/ioannis
ATTENDEE;ROLE=REQ-PARTICIPANT;PARTSTAT=ACCEPTED;RSVP=TRUE;CN="Tsiamtsi
 kas Nikolaos":https://blues.gr/profile/TsiamtsikasNikolaos
END:VEVENT
END:VCALENDAR
