BEGIN:VCALENDAR
PRODID:NingEventWidget-v1
VERSION:2.0
METHOD:PUBLISH
BEGIN:VTIMEZONE
TZID:Europe/Athens
X-LIC-LOCATION:Europe/Athens
BEGIN:DAYLIGHT
TZOFFSETFROM:+0200
TZOFFSETTO:+0300
TZNAME:EEST
DTSTART:19700329T030000
RRULE:FREQ=YEARLY;BYMONTH=3;BYDAY=-1SU
END:DAYLIGHT
BEGIN:STANDARD
TZOFFSETFROM:+0300
TZOFFSETTO:+0200
TZNAME:EET
DTSTART:19701025T040000
RRULE:FREQ=YEARLY;BYMONTH=10;BYDAY=-1SU
END:STANDARD
END:VTIMEZONE
BEGIN:VEVENT
UID:1982923:Event:122188
DTSTAMP:20260420T042507Z
SUMMARY:Nick Tsiamtsikas & Blues Report live at Ploughman's Pub
DESCRIPTION:Nick Tsiamtsikas & Blues Report live at Ploughmans Pub, fo
 r the third time this year. Hard electrick Rhythm n' Blues with a lott
 a Soul Chicago style. One night only.\n\nFor more information visit ht
 tps://blues.gr/events/nick-tsiamtsikas-blues-report-live-at-ploughman-
 s-pub
DTSTART;TZID=Europe/Athens:20111126T110000
DTEND;TZID=Europe/Athens:20111127T140000
CATEGORIES:live
LOCATION:Athens
WEBSITE:
URL:
CONTACT:
ORGANIZER;CN="Tsiamtsikas Nikolaos":https://blues.gr/profile/Tsiamtsik
 asNikolaos
ATTACH;FMTTYPE="image/jpeg":http://storage.ning.com/topology/rest/1.0/
 file/get/2252962756?profile=original
ATTENDEE;ROLE=REQ-PARTICIPANT;PARTSTAT=ACCEPTED;RSVP=TRUE;CN="Paul Xen
 os ( J. Warbird)":https://blues.gr/profile/PaulXenos
ATTENDEE;ROLE=REQ-PARTICIPANT;PARTSTAT=ACCEPTED;RSVP=TRUE;CN="Tsiamtsi
 kas Nikolaos":https://blues.gr/profile/TsiamtsikasNikolaos
END:VEVENT
END:VCALENDAR
