BEGIN:VCALENDAR
PRODID:NingEventWidget-v1
VERSION:2.0
METHOD:PUBLISH
BEGIN:VTIMEZONE
TZID:Europe/Athens
X-LIC-LOCATION:Europe/Athens
BEGIN:DAYLIGHT
TZOFFSETFROM:+0200
TZOFFSETTO:+0300
TZNAME:EEST
DTSTART:19700329T030000
RRULE:FREQ=YEARLY;BYMONTH=3;BYDAY=-1SU
END:DAYLIGHT
BEGIN:STANDARD
TZOFFSETFROM:+0300
TZOFFSETTO:+0200
TZNAME:EET
DTSTART:19701025T040000
RRULE:FREQ=YEARLY;BYMONTH=10;BYDAY=-1SU
END:STANDARD
END:VTIMEZONE
BEGIN:VEVENT
UID:1982923:Event:115750
DTSTAMP:20260420T024803Z
SUMMARY:Nick Tsiamtsikas & Blues Report live at Thesis Rock Cafe
DESCRIPTION:Δυνατό ηλεκτρικό Rhythm n' Blues with a lot
 ta Soul σε ενα αγαπημένο στέκι των Νότιων 
 προαστίων..\nΜια ξεκούραστη μπάντα έρ
 εται ανανεωμένη και δυνατή να κάνει α
 τό που ξέρει καλύτερα απ' όλους. Να σας
  μεταφέρει στην καρδιά της Μουσικής Σκ
 ηνής του Chicago, να σας δώσει ενα πλήρες ρ
 επορτάζ για το σύγχρονο και παραδοσικ
 ό Blues με πολή αγάπη και χορταστικές δό
 εις Soul. So...put on your dancing shoes. Might be sad, might be b
 lue, but it has a dancing feeling and a trembling too. Let the guitar 
 do the talking...\nΠαίζουν : Τάσος Δημητριάδης
  τύμπανα, Γιάννης Σαμαράς μπάσο, Παύλο
 ς Ξένος κιθάρες, Νίκος Τσιαμτσίκας φων
 ή-κιθάρα, Μάριος Χριστόπουλος Σαξόφων
 . Guest : Νώντας Βορλόκας φυσαρμόνικα...\n\n
 For more information visit https://blues.gr/events/nick-tsiamtsikas-bl
 ues-report-live-at-thesis-rock-cafe
DTSTART;TZID=Europe/Athens:20111202T230000
DTEND;TZID=Europe/Athens:20111203T020000
CATEGORIES:live
LOCATION:Thesis Rock Cafe - Argiroupoli
WEBSITE:
URL:
CONTACT:
ORGANIZER;CN="Tsiamtsikas Nikolaos":https://blues.gr/profile/Tsiamtsik
 asNikolaos
ATTACH;FMTTYPE="image/jpeg":http://storage.ning.com/topology/rest/1.0/
 file/get/2073762097?profile=original
ATTENDEE;ROLE=REQ-PARTICIPANT;PARTSTAT=ACCEPTED;RSVP=TRUE;CN="Anastasi
 os Dimitriadis":https://blues.gr/profile/AnastasiosDimitriadis
ATTENDEE;ROLE=REQ-PARTICIPANT;PARTSTAT=ACCEPTED;RSVP=TRUE;CN="Tsiamtsi
 kas Nikolaos":https://blues.gr/profile/TsiamtsikasNikolaos
END:VEVENT
END:VCALENDAR
