BEGIN:VCALENDAR
PRODID:NingEventWidget-v1
VERSION:2.0
METHOD:PUBLISH
BEGIN:VTIMEZONE
TZID:Europe/Athens
X-LIC-LOCATION:Europe/Athens
BEGIN:DAYLIGHT
TZOFFSETFROM:+0200
TZOFFSETTO:+0300
TZNAME:EEST
DTSTART:19700329T030000
RRULE:FREQ=YEARLY;BYMONTH=3;BYDAY=-1SU
END:DAYLIGHT
BEGIN:STANDARD
TZOFFSETFROM:+0300
TZOFFSETTO:+0200
TZNAME:EET
DTSTART:19701025T040000
RRULE:FREQ=YEARLY;BYMONTH=10;BYDAY=-1SU
END:STANDARD
END:VTIMEZONE
BEGIN:VEVENT
UID:1982923:Event:346452
DTSTAMP:20260422T094258Z
SUMMARY:Nick Waterhouse
DESCRIPTION:O Nick Waterhouse επιστρέφει στην Αθήνα
 ! Ο αγαπημένος Αμερικανός μουσικός θα 
 ας ταξιδέψει και πάλι στον κόσμο του α
 υθεντικού rock'n'roll, των rhythm & blues, της soul κ
 ι jazz-pop των 50s και 60s, την Παρασκευή 8 Νοε
 μβρίου, στο Fuzz Live Music Club, πάντα μαζί με τ
 ην πολυμελή μπάντα του!\r\nΜε απαράμιλλ
  vintage αισθητική, απεριόριστο συνθετικ
  ταλέντο και αληθινή αμεσότητα, ο νεαρ
 ός καλλιτέχνης και παραγωγός από την Ca
 lifornia έχει κερδίσει μία πολύ ξεχωριστή 
 θέση στην καρδιά του ελληνικού κοινού.
  Έτσι, αυτή η δεύτερη επίσκεψή του στη 
 ώρα μας μέσα στο 2019 μόνο έκπληξη δεν π
 οκαλεί. Άλλωστε, το sold out του περασμένο
 υ Μαρτίου, σε ένα κατάμεστο και τρομερ
  κεφάτο Fuzz Club, τα λέει όλα.\r\nΟ κόσμος τ
 ν έχει λατρέψει χάρη σε μερικά υπέροχ
  singles που έχουν κυριαρχήσει στο ραδιόφ
 ωνο τα τελευταία χρόνια - όπως το πασίγ
 νωστο \"Katchi\", το \"Some Place\", το \"Dead Room\", το \
 "I Can Only Give You Everything\", το \"Don't You Forget It\", με
 αξύ πολλών άλλων.\r\nΜε μια σιγουριά να 
 χαρακτηρίζει πλέον την κάθε κίνησή το
  επί σκηνής, ο Nick επανασυστήθηκε στου
 ς φίλους του, αλλά και σε νέους ακροατέ
 ς,με το φετινό δίσκο με τίτλο το όνομά 
 ου. Οι συνεχείς συναυλίες του με μια μ
 άντα \"μηχανή\" επιβεβαίωσαν πως κάθε β
 ράδυ είναι αφορμή για ένα rock n' roll πάρτι
  με τις πολυαγαπημένες πλέον vintage R&B πι
 ελιές του!\r\n\r\n\n\nFor more information visit https://blue
 s.gr/events/nick-waterhouse
DTSTART;TZID=Europe/Athens:20191108T000000
DTEND;TZID=Europe/Athens:20191108T235900
CATEGORIES:"rock'n'roll", rhythm, "&amp", blues, soul, jazz-pop
LOCATION:Fuzz Live Music Club
WEBSITE:
URL:
CONTACT:210 3450817
ORGANIZER:Fuzz Live Music Club
ATTACH;FMTTYPE="image/jpeg":https://storage.ning.com/topology/rest/1.0
 /file/get/3673193760?profile=original
ATTENDEE;ROLE=REQ-PARTICIPANT;PARTSTAT=ACCEPTED;RSVP=TRUE;CN="Music Ne
 twork by Michael Limnios":https://blues.gr/profile/MichalisLimnios
END:VEVENT
END:VCALENDAR
