BEGIN:VCALENDAR
PRODID:NingEventWidget-v1
VERSION:2.0
METHOD:PUBLISH
BEGIN:VTIMEZONE
TZID:Europe/Athens
X-LIC-LOCATION:Europe/Athens
BEGIN:DAYLIGHT
TZOFFSETFROM:+0200
TZOFFSETTO:+0300
TZNAME:EEST
DTSTART:19700329T030000
RRULE:FREQ=YEARLY;BYMONTH=3;BYDAY=-1SU
END:DAYLIGHT
BEGIN:STANDARD
TZOFFSETFROM:+0300
TZOFFSETTO:+0200
TZNAME:EET
DTSTART:19701025T040000
RRULE:FREQ=YEARLY;BYMONTH=10;BYDAY=-1SU
END:STANDARD
END:VTIMEZONE
BEGIN:VEVENT
UID:1982923:Event:86215
DTSTAMP:20260421T114356Z
SUMMARY:NIKOS KAPILIDIS TRIO, Live at Babi's Jazz Cafe
DESCRIPTION:A special Jazz night, with the bigest Jazz Masters, live a
 t Babi's\n\nFor more information visit https://blues.gr/events/nikos-k
 apilidis-trio-live-at
DTSTART;TZID=Europe/Athens:20110107T000000
DTEND;TZID=Europe/Athens:20110107T235900
CATEGORIES:jazz, live
LOCATION:Aridea cypress ave. 14
WEBSITE:
URL:
CONTACT:
ORGANIZER;CN="babis Simply  Blue":https://blues.gr/profile/MPAMPES
ATTACH;FMTTYPE="image/jpeg":http://storage.ning.com/topology/rest/1.0/
 file/get/2252947870?profile=original
ATTENDEE;ROLE=REQ-PARTICIPANT;PARTSTAT=ACCEPTED;RSVP=TRUE;CN="babis Si
 mply  Blue":https://blues.gr/profile/MPAMPES
END:VEVENT
END:VCALENDAR
