BEGIN:VCALENDAR
PRODID:NingEventWidget-v1
VERSION:2.0
METHOD:PUBLISH
BEGIN:VTIMEZONE
TZID:Europe/Athens
X-LIC-LOCATION:Europe/Athens
BEGIN:DAYLIGHT
TZOFFSETFROM:+0200
TZOFFSETTO:+0300
TZNAME:EEST
DTSTART:19700329T030000
RRULE:FREQ=YEARLY;BYMONTH=3;BYDAY=-1SU
END:DAYLIGHT
BEGIN:STANDARD
TZOFFSETFROM:+0300
TZOFFSETTO:+0200
TZNAME:EET
DTSTART:19701025T040000
RRULE:FREQ=YEARLY;BYMONTH=10;BYDAY=-1SU
END:STANDARD
END:VTIMEZONE
BEGIN:VEVENT
UID:1982923:Event:494503
DTSTAMP:20260420T074640Z
SUMMARY:Nine Below Zero
DESCRIPTION:Υπάρχουν συγκροτήματα που κουβ
 λούν μια δισκογραφία και συγκροτήματ
  που κουβαλούν μια εποχή. Οι Nine Below Zero α
 νήκουν ξεκάθαρα στη δεύτερη κατηγορία
 , όχι επειδή έμειναν στο παρελθόν, αλλά
  επειδή έμαθαν να μεταφέρουν το παρελθ
 όν στο παρόν, κάθε βράδυ, πάνω σε μια σκ
 ηνή. Την Παρασκευή 17 Απριλίου στο Piraeus C
 lub Academy, η μπάντα που γεννήθηκε στο Λονδ
 ίνο την ώρα που το punk διέλυε τους κανόν
 ες, έρχεται στην Αθήνα όχι για να θυμίσ
 ει αλλά για να αποδείξει ότι ορισμένοι
  ήχοι δεν ανήκουν σε καμία δεκαετία, αν
 ήκουν μόνο στο live.\r\nΤο 1977 η Βρετανία δε
 ν είχε υπομονή για δεξιοτεχνία. Οι κιθ
 ρες έπρεπε να κόβουν, τα τραγούδια να 
 ελειώνουν γρήγορα και η ένταση να είν
 ι άμεση. Κάπου μέσα σε αυτή τη βιασύνη,
  οι Nine Below Zero επέλεξαν κάτι σχεδόν αντι
 ατικό: να παίξουν με διάρκεια. Αντί γι
  το μινιμαλισμό του punk, έφεραν τον ιδρ
 τα του Chicago blues, την ακρίβεια του British R&B
  και την κινητικότητα της mod κουλτούρα
 . Στα μικρά pubs του νότιου Λονδίνου δεν 
 προσπαθούσαν να ακουστούν· προσπαθού
 αν να κινήσουν το δωμάτιο. Και πολύ γρ
 γορα τα δωμάτια έγιναν αίθουσες.\r\nΤο 
 τεμπούτο τους Live at the Marquee θεωρείται κλ
 ασικό όχι επειδή είναι παλιό αλλά επει
 δή ακούγεται σαν να συμβαίνει τώρα. Η μ
 πάντα δεν ηχογράφησε για να κατασκευά
 ει έναν τέλειο δίσκο, ηχογράφησε για ν
 α αποδείξει πώς ακούγεται μια βραδιά ό
 ταν οι ενισχυτές δουλεύουν περισσότερ
 ο από το πρόγραμμα. Αυτός ο ωμός, «χωρί
  φίλτρα» ήχος έγινε η ταυτότητά τους κ
 αι ο λόγος που βρέθηκαν να μοιράζονται
  σκηνές με ονόματα όπως οι The Who, Eric Clapton 
 και Sting, όχι ως συνοδευτική μπάντα, αλλ
  ως το συγκρότημα που είχε ήδη ζεστάνε
 ι το κοινό πριν εμφανιστεί ο headliner.\r\nΣτ
 ον πυρήνα της ιστορίας παραμένουν ο Denn
 is Greaves και ο Mark Feltham.Η κιθάρα του Greaves δε
  αναζητά εντυπωσιασμό αλλά επιμονή, η 
 φυσαρμόνικα του Feltham δεν συνοδεύει αλλ
 ά απαντά. Ανάμεσά τους υπάρχει ένας δι
 λογος που δεν γράφεται σε παρτιτούρα 
 ι αυτός ο διάλογος είναι ο λόγος που ο
  Nine Below Zero δεν έγιναν ποτέ νοσταλγία. Έ
 ειναν ενεργό συγκρότημα.\r\nΑπό το Don’t 
 Point Your Finger μέχρι το Avalanche, η μπάντα δεν κ
 υνηγά το παλιό της κοινό αλλά το επόμε
 ο live. Τα τραγούδια των 80s δεν παρουσιάζ
 ονται ως «κλασικά», αλλά ως φυσική συν
 χεια των καινούριων. Γιατί για αυτούς 
 το blues δεν είναι είδος· είναι τρόπος λε
 ιτουργίας. Κάθε setlist μοιάζει περισσότε
 ρο με αφήγηση παρά με αναδρομή.\r\nΗ εμφ
 νιση στο Piraeus Club Academy, έτσι, δεν λειτουρ
 γεί σαν reunion. Μοιάζει με ένα ακόμη επει
 όδιο μιας περιοδείας που απλώς συνεχί
 ζεται τέσσερις δεκαετίες μετά και εξα
 ολουθεί να παίζει σαν να ξεκινά από τη
 ν αρχή κάθε βράδυ. Γιατί κάποια συγκρο
 ήματα γράφουν τραγούδια. Και κάποια γ
 άφουν μνήμη την ώρα που τα ακούς.\r\n\n\nFo
 r more information visit https://blues.gr/events/nine-below-zero-1
DTSTART;TZID=Europe/Athens:20260417T000000
DTEND;TZID=Europe/Athens:20260417T235900
CATEGORIES:blues, rock
LOCATION:Piraeus Club Academy
WEBSITE:
URL:
CONTACT:
ORGANIZER:
ATTACH;FMTTYPE="image/jpeg":https://storage.ning.com/topology/rest/1.0
 /file/get/31087904283?profile=original
ATTENDEE;ROLE=REQ-PARTICIPANT;PARTSTAT=ACCEPTED;RSVP=TRUE;CN="Music Ne
 twork by Michael Limnios":https://blues.gr/profile/MichalisLimnios
END:VEVENT
END:VCALENDAR
